Workbook
Name ListNames: Lists!$A$8:$A$17
Name ReviewDate: Lists!$B$4
Name Statuses: Lists!$D$8:$D$11
Name TodayRef: Lists!$B$5

Sheet Tasks
A1: Task | B1: List | C1: Priority | D1: Due date | E1: Status | F1: Owner | G1: Notes | H1: Days left | I1: Flag | J1: Check
H2: =IF(COUNTA(A2:G2)=0,"",IF(OR(E2="Done",NOT(ISNUMBER(D2))),"",D2-TodayRef)) | I2: =IF(COUNTA(A2:G2)=0,"",IF(E2="Done","Done",IF(NOT(ISNUMBER(D2)),"No due date",IF(D2<TodayRef,"Overdue",IF(D2-TodayRef<=3,"Due soon","Upcoming"))))) | J2: =IF(COUNTA(A2:G2)=0,"",IF(A2="","Missing task",IF(AND(E2<>"",COUNTIF(Statuses,E2)=0),"Unknown status",IF(AND(D2<>"",NOT(ISNUMBER(D2))),"Invalid date","OK"))))
H3: =IF(COUNTA(A3:G3)=0,"",IF(OR(E3="Done",NOT(ISNUMBER(D3))),"",D3-TodayRef)) | I3: =IF(COUNTA(A3:G3)=0,"",IF(E3="Done","Done",IF(NOT(ISNUMBER(D3)),"No due date",IF(D3<TodayRef,"Overdue",IF(D3-TodayRef<=3,"Due soon","Upcoming"))))) | J3: =IF(COUNTA(A3:G3)=0,"",IF(A3="","Missing task",IF(AND(E3<>"",COUNTIF(Statuses,E3)=0),"Unknown status",IF(AND(D3<>"",NOT(ISNUMBER(D3))),"Invalid date","OK"))))
H4: =IF(COUNTA(A4:G4)=0,"",IF(OR(E4="Done",NOT(ISNUMBER(D4))),"",D4-TodayRef)) | I4: =IF(COUNTA(A4:G4)=0,"",IF(E4="Done","Done",IF(NOT(ISNUMBER(D4)),"No due date",IF(D4<TodayRef,"Overdue",IF(D4-TodayRef<=3,"Due soon","Upcoming"))))) | J4: =IF(COUNTA(A4:G4)=0,"",IF(A4="","Missing task",IF(AND(E4<>"",COUNTIF(Statuses,E4)=0),"Unknown status",IF(AND(D4<>"",NOT(ISNUMBER(D4))),"Invalid date","OK"))))
H5: =IF(COUNTA(A5:G5)=0,"",IF(OR(E5="Done",NOT(ISNUMBER(D5))),"",D5-TodayRef)) | I5: =IF(COUNTA(A5:G5)=0,"",IF(E5="Done","Done",IF(NOT(ISNUMBER(D5)),"No due date",IF(D5<TodayRef,"Overdue",IF(D5-TodayRef<=3,"Due soon","Upcoming"))))) | J5: =IF(COUNTA(A5:G5)=0,"",IF(A5="","Missing task",IF(AND(E5<>"",COUNTIF(Statuses,E5)=0),"Unknown status",IF(AND(D5<>"",NOT(ISNUMBER(D5))),"Invalid date","OK"))))
H6: =IF(COUNTA(A6:G6)=0,"",IF(OR(E6="Done",NOT(ISNUMBER(D6))),"",D6-TodayRef)) | I6: =IF(COUNTA(A6:G6)=0,"",IF(E6="Done","Done",IF(NOT(ISNUMBER(D6)),"No due date",IF(D6<TodayRef,"Overdue",IF(D6-TodayRef<=3,"Due soon","Upcoming"))))) | J6: =IF(COUNTA(A6:G6)=0,"",IF(A6="","Missing task",IF(AND(E6<>"",COUNTIF(Statuses,E6)=0),"Unknown status",IF(AND(D6<>"",NOT(ISNUMBER(D6))),"Invalid date","OK"))))
H7: =IF(COUNTA(A7:G7)=0,"",IF(OR(E7="Done",NOT(ISNUMBER(D7))),"",D7-TodayRef)) | I7: =IF(COUNTA(A7:G7)=0,"",IF(E7="Done","Done",IF(NOT(ISNUMBER(D7)),"No due date",IF(D7<TodayRef,"Overdue",IF(D7-TodayRef<=3,"Due soon","Upcoming"))))) | J7: =IF(COUNTA(A7:G7)=0,"",IF(A7="","Missing task",IF(AND(E7<>"",COUNTIF(Statuses,E7)=0),"Unknown status",IF(AND(D7<>"",NOT(ISNUMBER(D7))),"Invalid date","OK"))))
H8: =IF(COUNTA(A8:G8)=0,"",IF(OR(E8="Done",NOT(ISNUMBER(D8))),"",D8-TodayRef)) | I8: =IF(COUNTA(A8:G8)=0,"",IF(E8="Done","Done",IF(NOT(ISNUMBER(D8)),"No due date",IF(D8<TodayRef,"Overdue",IF(D8-TodayRef<=3,"Due soon","Upcoming"))))) | J8: =IF(COUNTA(A8:G8)=0,"",IF(A8="","Missing task",IF(AND(E8<>"",COUNTIF(Statuses,E8)=0),"Unknown status",IF(AND(D8<>"",NOT(ISNUMBER(D8))),"Invalid date","OK"))))
H9: =IF(COUNTA(A9:G9)=0,"",IF(OR(E9="Done",NOT(ISNUMBER(D9))),"",D9-TodayRef)) | I9: =IF(COUNTA(A9:G9)=0,"",IF(E9="Done","Done",IF(NOT(ISNUMBER(D9)),"No due date",IF(D9<TodayRef,"Overdue",IF(D9-TodayRef<=3,"Due soon","Upcoming"))))) | J9: =IF(COUNTA(A9:G9)=0,"",IF(A9="","Missing task",IF(AND(E9<>"",COUNTIF(Statuses,E9)=0),"Unknown status",IF(AND(D9<>"",NOT(ISNUMBER(D9))),"Invalid date","OK"))))
H10: =IF(COUNTA(A10:G10)=0,"",IF(OR(E10="Done",NOT(ISNUMBER(D10))),"",D10-TodayRef)) | I10: =IF(COUNTA(A10:G10)=0,"",IF(E10="Done","Done",IF(NOT(ISNUMBER(D10)),"No due date",IF(D10<TodayRef,"Overdue",IF(D10-TodayRef<=3,"Due soon","Upcoming"))))) | J10: =IF(COUNTA(A10:G10)=0,"",IF(A10="","Missing task",IF(AND(E10<>"",COUNTIF(Statuses,E10)=0),"Unknown status",IF(AND(D10<>"",NOT(ISNUMBER(D10))),"Invalid date","OK"))))
H11: =IF(COUNTA(A11:G11)=0,"",IF(OR(E11="Done",NOT(ISNUMBER(D11))),"",D11-TodayRef)) | I11: =IF(COUNTA(A11:G11)=0,"",IF(E11="Done","Done",IF(NOT(ISNUMBER(D11)),"No due date",IF(D11<TodayRef,"Overdue",IF(D11-TodayRef<=3,"Due soon","Upcoming"))))) | J11: =IF(COUNTA(A11:G11)=0,"",IF(A11="","Missing task",IF(AND(E11<>"",COUNTIF(Statuses,E11)=0),"Unknown status",IF(AND(D11<>"",NOT(ISNUMBER(D11))),"Invalid date","OK"))))
H12: =IF(COUNTA(A12:G12)=0,"",IF(OR(E12="Done",NOT(ISNUMBER(D12))),"",D12-TodayRef)) | I12: =IF(COUNTA(A12:G12)=0,"",IF(E12="Done","Done",IF(NOT(ISNUMBER(D12)),"No due date",IF(D12<TodayRef,"Overdue",IF(D12-TodayRef<=3,"Due soon","Upcoming"))))) | J12: =IF(COUNTA(A12:G12)=0,"",IF(A12="","Missing task",IF(AND(E12<>"",COUNTIF(Statuses,E12)=0),"Unknown status",IF(AND(D12<>"",NOT(ISNUMBER(D12))),"Invalid date","OK"))))
H13: =IF(COUNTA(A13:G13)=0,"",IF(OR(E13="Done",NOT(ISNUMBER(D13))),"",D13-TodayRef)) | I13: =IF(COUNTA(A13:G13)=0,"",IF(E13="Done","Done",IF(NOT(ISNUMBER(D13)),"No due date",IF(D13<TodayRef,"Overdue",IF(D13-TodayRef<=3,"Due soon","Upcoming"))))) | J13: =IF(COUNTA(A13:G13)=0,"",IF(A13="","Missing task",IF(AND(E13<>"",COUNTIF(Statuses,E13)=0),"Unknown status",IF(AND(D13<>"",NOT(ISNUMBER(D13))),"Invalid date","OK"))))
... H501: =IF(COUNTA(A501:G501)=0,"",IF(OR(E501="Done",NOT(ISNUMBER(D501))),"",D501-TodayRef)) | I501: =IF(COUNTA(A501:G501)=0,"",IF(E501="Done","Done",IF(NOT(ISNUMBER(D501)),"No due date",IF(D501<TodayRef,"Overdue",IF(D501-TodayRef<=3,"Due soon","Upcoming"))))) | J501: =IF(COUNTA(A501:G501)=0,"",IF(A501="","Missing task",IF(AND(E501<>"",COUNTIF(Statuses,E501)=0),"Unknown status",IF(AND(D501<>"",NOT(ISNUMBER(D501))),"Invalid date","OK"))))

Sheet Summary
A1: To-do summary
A2: ="Progress as of "&TEXT(TodayRef,"dddd d mmmm yyyy") -> Progress as of Monday 19 October 2026
A4: OPEN TASKS | E4: COMPLETED | I4: OVERDUE | M4: DUE IN 7 DAYS
A5: =COUNTIFS(Tasks!$J$2:$J$501,"OK",Tasks!$E$2:$E$501,"<>Done") -> 0 | E5: =COUNTIFS(Tasks!$J$2:$J$501,"OK",Tasks!$E$2:$E$501,"Done") -> 0 | I5: =COUNTIFS(Tasks!$J$2:$J$501,"OK",Tasks!$I$2:$I$501,"Overdue") -> 0 | M5: =COUNTIFS(Tasks!$J$2:$J$501,"OK",Tasks!$E$2:$E$501,"<>Done",Tasks!$D$2:$D$501,">="&TodayRef,Tasks!$D$2:$D$501,"<="&(TodayRef+7)) -> 0
A7: =COUNTIFS(Tasks!$J$2:$J$501,"OK",Tasks!$E$2:$E$501,"In progress")&" in progress" -> 0 in progress | E7: =IF(A5+E5=0,"No tasks yet",TEXT(E5/(A5+E5),"0%")&" of all tasks") -> No tasks yet | I7: =COUNTIFS(Tasks!$J$2:$J$501,"OK",Tasks!$I$2:$I$501,"Overdue",Tasks!$C$2:$C$501,"High")&" high priority" -> 0 high priority | M7: =COUNTIFS(Tasks!$J$2:$J$501,"OK",Tasks!$I$2:$I$501,"Due soon")&" due in the next 3 days" -> 0 due in the next 3 days
A23: Done tasks are struck through on Tasks. Overdue = past the due date and not done. Change the review date on Lists, or leave it empty to use today.
A24: By status | E24: Open by priority | I24: By list
A25: Status | C25: Tasks | E25: Priority | G25: Open | I25: List | K25: Open | L25: Done | M25: Overdue | N25: % done
A26: Not started | C26: =COUNTIFS(Tasks!$J$2:$J$501,"OK",Tasks!$E$2:$E$501,"Not started") -> 0 | E26: High | G26: =COUNTIFS(Tasks!$J$2:$J$501,"OK",Tasks!$C$2:$C$501,"High",Tasks!$E$2:$E$501,"<>Done") -> 0 | I26: =IF(Lists!A8="","",Lists!A8) -> Work | K26: =IF(I26="","",COUNTIFS(Tasks!$J$2:$J$501,"OK",Tasks!$B$2:$B$501,I26,Tasks!$E$2:$E$501,"<>Done")) -> 0 | L26: =IF(I26="","",COUNTIFS(Tasks!$J$2:$J$501,"OK",Tasks!$B$2:$B$501,I26,Tasks!$E$2:$E$501,"Done")) -> 0 | M26: =IF(I26="","",COUNTIFS(Tasks!$J$2:$J$501,"OK",Tasks!$B$2:$B$501,I26,Tasks!$I$2:$I$501,"Overdue")) -> 0 | N26: =IF(OR(I26="",N(K26)+N(L26)=0),"",L26/(K26+L26))
A27: In progress | C27: =COUNTIFS(Tasks!$J$2:$J$501,"OK",Tasks!$E$2:$E$501,"In progress") -> 0 | E27: Medium | G27: =COUNTIFS(Tasks!$J$2:$J$501,"OK",Tasks!$C$2:$C$501,"Medium",Tasks!$E$2:$E$501,"<>Done") -> 0 | I27: =IF(Lists!A9="","",Lists!A9) -> Home | K27: =IF(I27="","",COUNTIFS(Tasks!$J$2:$J$501,"OK",Tasks!$B$2:$B$501,I27,Tasks!$E$2:$E$501,"<>Done")) -> 0 | L27: =IF(I27="","",COUNTIFS(Tasks!$J$2:$J$501,"OK",Tasks!$B$2:$B$501,I27,Tasks!$E$2:$E$501,"Done")) -> 0 | M27: =IF(I27="","",COUNTIFS(Tasks!$J$2:$J$501,"OK",Tasks!$B$2:$B$501,I27,Tasks!$I$2:$I$501,"Overdue")) -> 0 | N27: =IF(OR(I27="",N(K27)+N(L27)=0),"",L27/(K27+L27))
A28: Waiting | C28: =COUNTIFS(Tasks!$J$2:$J$501,"OK",Tasks!$E$2:$E$501,"Waiting") -> 0 | E28: Low | G28: =COUNTIFS(Tasks!$J$2:$J$501,"OK",Tasks!$C$2:$C$501,"Low",Tasks!$E$2:$E$501,"<>Done") -> 0 | I28: =IF(Lists!A10="","",Lists!A10) -> Errands | K28: =IF(I28="","",COUNTIFS(Tasks!$J$2:$J$501,"OK",Tasks!$B$2:$B$501,I28,Tasks!$E$2:$E$501,"<>Done")) -> 0 | L28: =IF(I28="","",COUNTIFS(Tasks!$J$2:$J$501,"OK",Tasks!$B$2:$B$501,I28,Tasks!$E$2:$E$501,"Done")) -> 0 | M28: =IF(I28="","",COUNTIFS(Tasks!$J$2:$J$501,"OK",Tasks!$B$2:$B$501,I28,Tasks!$I$2:$I$501,"Overdue")) -> 0 | N28: =IF(OR(I28="",N(K28)+N(L28)=0),"",L28/(K28+L28))
A29: Done | C29: =COUNTIFS(Tasks!$J$2:$J$501,"OK",Tasks!$E$2:$E$501,"Done") -> 0 | I29: =IF(Lists!A11="","",Lists!A11) -> Health | K29: =IF(I29="","",COUNTIFS(Tasks!$J$2:$J$501,"OK",Tasks!$B$2:$B$501,I29,Tasks!$E$2:$E$501,"<>Done")) -> 0 | L29: =IF(I29="","",COUNTIFS(Tasks!$J$2:$J$501,"OK",Tasks!$B$2:$B$501,I29,Tasks!$E$2:$E$501,"Done")) -> 0 | M29: =IF(I29="","",COUNTIFS(Tasks!$J$2:$J$501,"OK",Tasks!$B$2:$B$501,I29,Tasks!$I$2:$I$501,"Overdue")) -> 0 | N29: =IF(OR(I29="",N(K29)+N(L29)=0),"",L29/(K29+L29))
I30: =IF(Lists!A12="","",Lists!A12) -> Learning | K30: =IF(I30="","",COUNTIFS(Tasks!$J$2:$J$501,"OK",Tasks!$B$2:$B$501,I30,Tasks!$E$2:$E$501,"<>Done")) -> 0 | L30: =IF(I30="","",COUNTIFS(Tasks!$J$2:$J$501,"OK",Tasks!$B$2:$B$501,I30,Tasks!$E$2:$E$501,"Done")) -> 0 | M30: =IF(I30="","",COUNTIFS(Tasks!$J$2:$J$501,"OK",Tasks!$B$2:$B$501,I30,Tasks!$I$2:$I$501,"Overdue")) -> 0 | N30: =IF(OR(I30="",N(K30)+N(L30)=0),"",L30/(K30+L30))
I31: =IF(Lists!A13="","",Lists!A13) | K31: =IF(I31="","",COUNTIFS(Tasks!$J$2:$J$501,"OK",Tasks!$B$2:$B$501,I31,Tasks!$E$2:$E$501,"<>Done")) | L31: =IF(I31="","",COUNTIFS(Tasks!$J$2:$J$501,"OK",Tasks!$B$2:$B$501,I31,Tasks!$E$2:$E$501,"Done")) | M31: =IF(I31="","",COUNTIFS(Tasks!$J$2:$J$501,"OK",Tasks!$B$2:$B$501,I31,Tasks!$I$2:$I$501,"Overdue")) | N31: =IF(OR(I31="",N(K31)+N(L31)=0),"",L31/(K31+L31))
I32: =IF(Lists!A14="","",Lists!A14) | K32: =IF(I32="","",COUNTIFS(Tasks!$J$2:$J$501,"OK",Tasks!$B$2:$B$501,I32,Tasks!$E$2:$E$501,"<>Done")) | L32: =IF(I32="","",COUNTIFS(Tasks!$J$2:$J$501,"OK",Tasks!$B$2:$B$501,I32,Tasks!$E$2:$E$501,"Done")) | M32: =IF(I32="","",COUNTIFS(Tasks!$J$2:$J$501,"OK",Tasks!$B$2:$B$501,I32,Tasks!$I$2:$I$501,"Overdue")) | N32: =IF(OR(I32="",N(K32)+N(L32)=0),"",L32/(K32+L32))
I33: =IF(Lists!A15="","",Lists!A15) | K33: =IF(I33="","",COUNTIFS(Tasks!$J$2:$J$501,"OK",Tasks!$B$2:$B$501,I33,Tasks!$E$2:$E$501,"<>Done")) | L33: =IF(I33="","",COUNTIFS(Tasks!$J$2:$J$501,"OK",Tasks!$B$2:$B$501,I33,Tasks!$E$2:$E$501,"Done")) | M33: =IF(I33="","",COUNTIFS(Tasks!$J$2:$J$501,"OK",Tasks!$B$2:$B$501,I33,Tasks!$I$2:$I$501,"Overdue")) | N33: =IF(OR(I33="",N(K33)+N(L33)=0),"",L33/(K33+L33))
I34: =IF(Lists!A16="","",Lists!A16) | K34: =IF(I34="","",COUNTIFS(Tasks!$J$2:$J$501,"OK",Tasks!$B$2:$B$501,I34,Tasks!$E$2:$E$501,"<>Done")) | L34: =IF(I34="","",COUNTIFS(Tasks!$J$2:$J$501,"OK",Tasks!$B$2:$B$501,I34,Tasks!$E$2:$E$501,"Done")) | M34: =IF(I34="","",COUNTIFS(Tasks!$J$2:$J$501,"OK",Tasks!$B$2:$B$501,I34,Tasks!$I$2:$I$501,"Overdue")) | N34: =IF(OR(I34="",N(K34)+N(L34)=0),"",L34/(K34+L34))
I35: =IF(Lists!A17="","",Lists!A17) | K35: =IF(I35="","",COUNTIFS(Tasks!$J$2:$J$501,"OK",Tasks!$B$2:$B$501,I35,Tasks!$E$2:$E$501,"<>Done")) | L35: =IF(I35="","",COUNTIFS(Tasks!$J$2:$J$501,"OK",Tasks!$B$2:$B$501,I35,Tasks!$E$2:$E$501,"Done")) | M35: =IF(I35="","",COUNTIFS(Tasks!$J$2:$J$501,"OK",Tasks!$B$2:$B$501,I35,Tasks!$I$2:$I$501,"Overdue")) | N35: =IF(OR(I35="",N(K35)+N(L35)=0),"",L35/(K35+L35))

Sheet Lists
A1: Lists / settings
A2: Rename lists in the mint cells. Statuses and priorities drive the flags and the Summary.
A4: Review date | C4: Leave empty to use today's date. The sample is fixed to 2026-10-20 so its flags stay meaningful.
A5: Today used for flags | B5: =IF(ISNUMBER(ReviewDate),ReviewDate,TODAY()) -> 46314
A7: Lists | D7: Statuses | E7: Priorities
A8: Work | D8: Not started | E8: High
A9: Home | D9: In progress | E9: Medium
A10: Errands | D10: Waiting | E10: Low
A11: Health | D11: Done
A12: Learning

Sheet Instructions
A1: To-do list / start here
A2: Mint cells are inputs. White cells are calculated; edit the source rows instead.
A4: 1 ADD TASKS | B4: Type each task on Tasks with a list, priority, due date and status. Owner and notes are optional.
A5: 2 KEEP IT CURRENT | B5: Change Status as work moves. Done tasks are struck through and drop out of the open counts.
A6: 3 FOCUS | B6: Flag shows Overdue, Due soon (within 3 days), Upcoming or No due date. Sort or filter the header row to plan your day.
A7: LISTS | B7: Rename or add up to ten lists on Lists. The Summary counts open, done and overdue tasks for each list.
A8: DATES | B8: Flags use the review date on Lists. Leave it empty to use today's date automatically.
A9: ROWS | B9: Input tables reserve rows 2–501 (500 records). To add more, extend every formula range, validation and conditional format together.
A10: YOUR COPY | B10: In ExcelCraft, use Download XLSX to keep your work. Nothing is saved to a server automatically.
A11: COMPATIBILITY | B11: No macros, external links or pivot tables. Formulas use standard functions that recalculate in Excel, Google Sheets, LibreOffice and ExcelCraft; layout and charts can vary slightly between apps.
A12: LICENSE | B12: Original workbook, formulas, instructions and fictional sample data by ExcelCraft. CC0 1.0 Universal (https://creativecommons.org/publicdomain/zero/1.0/). Sample names are invented.
