Workbook
Name Month1: Tracker!$AM$4
Name Today: Tracker!$AL$4

Sheet Tracker
A1: Habit tracker
A2: Pick ✓ from the drop-down (or type x) on each day you kept the habit. Goal is days per month.
A4: Month | B4: 46296 | H4: Review date | L4: 46315 | R4: Leave both empty to use this month and today. | AL4: =IF(ISNUMBER(L4),L4,TODAY()) -> 46315 | AM4: =IF(ISNUMBER(B4),DATE(YEAR(B4),MONTH(B4),1),DATE(YEAR(AL4),MONTH(AL4),1)) -> 46296
C5: =IF(MONTH(Month1+0)=MONTH(Month1),LEFT(TEXT(Month1+0,"ddd"),1),"") -> T | D5: =IF(MONTH(Month1+1)=MONTH(Month1),LEFT(TEXT(Month1+1,"ddd"),1),"") -> F | E5: =IF(MONTH(Month1+2)=MONTH(Month1),LEFT(TEXT(Month1+2,"ddd"),1),"") -> S | F5: =IF(MONTH(Month1+3)=MONTH(Month1),LEFT(TEXT(Month1+3,"ddd"),1),"") -> S | G5: =IF(MONTH(Month1+4)=MONTH(Month1),LEFT(TEXT(Month1+4,"ddd"),1),"") -> M | H5: =IF(MONTH(Month1+5)=MONTH(Month1),LEFT(TEXT(Month1+5,"ddd"),1),"") -> T | I5: =IF(MONTH(Month1+6)=MONTH(Month1),LEFT(TEXT(Month1+6,"ddd"),1),"") -> W | J5: =IF(MONTH(Month1+7)=MONTH(Month1),LEFT(TEXT(Month1+7,"ddd"),1),"") -> T | K5: =IF(MONTH(Month1+8)=MONTH(Month1),LEFT(TEXT(Month1+8,"ddd"),1),"") -> F | L5: =IF(MONTH(Month1+9)=MONTH(Month1),LEFT(TEXT(Month1+9,"ddd"),1),"") -> S | M5: =IF(MONTH(Month1+10)=MONTH(Month1),LEFT(TEXT(Month1+10,"ddd"),1),"") -> S | N5: =IF(MONTH(Month1+11)=MONTH(Month1),LEFT(TEXT(Month1+11,"ddd"),1),"") -> M | O5: =IF(MONTH(Month1+12)=MONTH(Month1),LEFT(TEXT(Month1+12,"ddd"),1),"") -> T | P5: =IF(MONTH(Month1+13)=MONTH(Month1),LEFT(TEXT(Month1+13,"ddd"),1),"") -> W | Q5: =IF(MONTH(Month1+14)=MONTH(Month1),LEFT(TEXT(Month1+14,"ddd"),1),"") -> T | R5: =IF(MONTH(Month1+15)=MONTH(Month1),LEFT(TEXT(Month1+15,"ddd"),1),"") -> F | S5: =IF(MONTH(Month1+16)=MONTH(Month1),LEFT(TEXT(Month1+16,"ddd"),1),"") -> S | T5: =IF(MONTH(Month1+17)=MONTH(Month1),LEFT(TEXT(Month1+17,"ddd"),1),"") -> S | U5: =IF(MONTH(Month1+18)=MONTH(Month1),LEFT(TEXT(Month1+18,"ddd"),1),"") -> M | V5: =IF(MONTH(Month1+19)=MONTH(Month1),LEFT(TEXT(Month1+19,"ddd"),1),"") -> T | W5: =IF(MONTH(Month1+20)=MONTH(Month1),LEFT(TEXT(Month1+20,"ddd"),1),"") -> W | X5: =IF(MONTH(Month1+21)=MONTH(Month1),LEFT(TEXT(Month1+21,"ddd"),1),"") -> T | Y5: =IF(MONTH(Month1+22)=MONTH(Month1),LEFT(TEXT(Month1+22,"ddd"),1),"") -> F | Z5: =IF(MONTH(Month1+23)=MONTH(Month1),LEFT(TEXT(Month1+23,"ddd"),1),"") -> S | AA5: =IF(MONTH(Month1+24)=MONTH(Month1),LEFT(TEXT(Month1+24,"ddd"),1),"") -> S | AB5: =IF(MONTH(Month1+25)=MONTH(Month1),LEFT(TEXT(Month1+25,"ddd"),1),"") -> M | AC5: =IF(MONTH(Month1+26)=MONTH(Month1),LEFT(TEXT(Month1+26,"ddd"),1),"") -> T | AD5: =IF(MONTH(Month1+27)=MONTH(Month1),LEFT(TEXT(Month1+27,"ddd"),1),"") -> W | AE5: =IF(MONTH(Month1+28)=MONTH(Month1),LEFT(TEXT(Month1+28,"ddd"),1),"") -> T | AF5: =IF(MONTH(Month1+29)=MONTH(Month1),LEFT(TEXT(Month1+29,"ddd"),1),"") -> F | AG5: =IF(MONTH(Month1+30)=MONTH(Month1),LEFT(TEXT(Month1+30,"ddd"),1),"") -> S
C6: =IF(MONTH(Month1+0)=MONTH(Month1),Month1+0,"") -> 46296 | D6: =IF(MONTH(Month1+1)=MONTH(Month1),Month1+1,"") -> 46297 | E6: =IF(MONTH(Month1+2)=MONTH(Month1),Month1+2,"") -> 46298 | F6: =IF(MONTH(Month1+3)=MONTH(Month1),Month1+3,"") -> 46299 | G6: =IF(MONTH(Month1+4)=MONTH(Month1),Month1+4,"") -> 46300 | H6: =IF(MONTH(Month1+5)=MONTH(Month1),Month1+5,"") -> 46301 | I6: =IF(MONTH(Month1+6)=MONTH(Month1),Month1+6,"") -> 46302 | J6: =IF(MONTH(Month1+7)=MONTH(Month1),Month1+7,"") -> 46303 | K6: =IF(MONTH(Month1+8)=MONTH(Month1),Month1+8,"") -> 46304 | L6: =IF(MONTH(Month1+9)=MONTH(Month1),Month1+9,"") -> 46305 | M6: =IF(MONTH(Month1+10)=MONTH(Month1),Month1+10,"") -> 46306 | N6: =IF(MONTH(Month1+11)=MONTH(Month1),Month1+11,"") -> 46307 | O6: =IF(MONTH(Month1+12)=MONTH(Month1),Month1+12,"") -> 46308 | P6: =IF(MONTH(Month1+13)=MONTH(Month1),Month1+13,"") -> 46309 | Q6: =IF(MONTH(Month1+14)=MONTH(Month1),Month1+14,"") -> 46310 | R6: =IF(MONTH(Month1+15)=MONTH(Month1),Month1+15,"") -> 46311 | S6: =IF(MONTH(Month1+16)=MONTH(Month1),Month1+16,"") -> 46312 | T6: =IF(MONTH(Month1+17)=MONTH(Month1),Month1+17,"") -> 46313 | U6: =IF(MONTH(Month1+18)=MONTH(Month1),Month1+18,"") -> 46314 | V6: =IF(MONTH(Month1+19)=MONTH(Month1),Month1+19,"") -> 46315 | W6: =IF(MONTH(Month1+20)=MONTH(Month1),Month1+20,"") -> 46316 | X6: =IF(MONTH(Month1+21)=MONTH(Month1),Month1+21,"") -> 46317 | Y6: =IF(MONTH(Month1+22)=MONTH(Month1),Month1+22,"") -> 46318 | Z6: =IF(MONTH(Month1+23)=MONTH(Month1),Month1+23,"") -> 46319 | AA6: =IF(MONTH(Month1+24)=MONTH(Month1),Month1+24,"") -> 46320 | AB6: =IF(MONTH(Month1+25)=MONTH(Month1),Month1+25,"") -> 46321 | AC6: =IF(MONTH(Month1+26)=MONTH(Month1),Month1+26,"") -> 46322 | AD6: =IF(MONTH(Month1+27)=MONTH(Month1),Month1+27,"") -> 46323 | AE6: =IF(MONTH(Month1+28)=MONTH(Month1),Month1+28,"") -> 46324 | AF6: =IF(MONTH(Month1+29)=MONTH(Month1),Month1+29,"") -> 46325 | AG6: =IF(MONTH(Month1+30)=MONTH(Month1),Month1+30,"") -> 46326
A7: Habit | B7: Goal | AH7: Done | AI7: Of goal | AJ7: Last 7 days
A8: Walk 8,000 steps | B8: 25 | C8: ✓ | D8: ✓ | F8: ✓ | G8: ✓ | H8: ✓ | I8: ✓ | K8: ✓ | L8: ✓ | M8: ✓ | N8: ✓ | O8: ✓ | Q8: ✓ | S8: ✓ | T8: ✓ | U8: ✓ | V8: ✓ | AH8: =IF(A8="","",(COUNTIF(C8:AG8,"✓")+COUNTIF(C8:AG8,"x"))) -> 16 | AI8: =IF(OR(A8="",N(B8)=0),"",AH8/B8) -> 0.64 | AJ8: =IF(A8="","",COUNTIFS(C8:AG8,"✓",$C$6:$AG$6,">"&(Today-7),$C$6:$AG$6,"<="&Today)+COUNTIFS(C8:AG8,"x",$C$6:$AG$6,">"&(Today-7),$C$6:$AG$6,"<="&Today)) -> 5
A9: Read 20 minutes | B9: 20 | E9: ✓ | F9: ✓ | G9: ✓ | J9: ✓ | K9: ✓ | L9: ✓ | M9: ✓ | P9: ✓ | Q9: ✓ | R9: ✓ | U9: ✓ | V9: ✓ | AH9: =IF(A9="","",(COUNTIF(C9:AG9,"✓")+COUNTIF(C9:AG9,"x"))) -> 12 | AI9: =IF(OR(A9="",N(B9)=0),"",AH9/B9) -> 0.6 | AJ9: =IF(A9="","",COUNTIFS(C9:AG9,"✓",$C$6:$AG$6,">"&(Today-7),$C$6:$AG$6,"<="&Today)+COUNTIFS(C9:AG9,"x",$C$6:$AG$6,">"&(Today-7),$C$6:$AG$6,"<="&Today)) -> 5
A10: No phone after 10 pm | B10: 20 | C10: ✓ | F10: ✓ | G10: ✓ | H10: ✓ | K10: ✓ | L10: ✓ | M10: ✓ | N10: ✓ | O10: ✓ | P10: ✓ | S10: ✓ | T10: ✓ | U10: ✓ | AH10: =IF(A10="","",(COUNTIF(C10:AG10,"✓")+COUNTIF(C10:AG10,"x"))) -> 13 | AI10: =IF(OR(A10="",N(B10)=0),"",AH10/B10) -> 0.65 | AJ10: =IF(A10="","",COUNTIFS(C10:AG10,"✓",$C$6:$AG$6,">"&(Today-7),$C$6:$AG$6,"<="&Today)+COUNTIFS(C10:AG10,"x",$C$6:$AG$6,">"&(Today-7),$C$6:$AG$6,"<="&Today)) -> 4
A11: Drink 2 litres of water | B11: 28 | C11: ✓ | D11: ✓ | E11: ✓ | F11: ✓ | G11: ✓ | H11: ✓ | I11: ✓ | J11: ✓ | K11: ✓ | M11: ✓ | N11: ✓ | O11: ✓ | P11: ✓ | R11: ✓ | S11: ✓ | T11: ✓ | U11: ✓ | V11: ✓ | AH11: =IF(A11="","",(COUNTIF(C11:AG11,"✓")+COUNTIF(C11:AG11,"x"))) -> 18 | AI11: =IF(OR(A11="",N(B11)=0),"",AH11/B11) -> 0.64285714 | AJ11: =IF(A11="","",COUNTIFS(C11:AG11,"✓",$C$6:$AG$6,">"&(Today-7),$C$6:$AG$6,"<="&Today)+COUNTIFS(C11:AG11,"x",$C$6:$AG$6,">"&(Today-7),$C$6:$AG$6,"<="&Today)) -> 6
A12: Stretch or yoga | B12: 12 | E12: ✓ | F12: ✓ | M12: ✓ | N12: ✓ | S12: ✓ | T12: ✓ | AH12: =IF(A12="","",(COUNTIF(C12:AG12,"✓")+COUNTIF(C12:AG12,"x"))) -> 6 | AI12: =IF(OR(A12="",N(B12)=0),"",AH12/B12) -> 0.5 | AJ12: =IF(A12="","",COUNTIFS(C12:AG12,"✓",$C$6:$AG$6,">"&(Today-7),$C$6:$AG$6,"<="&Today)+COUNTIFS(C12:AG12,"x",$C$6:$AG$6,">"&(Today-7),$C$6:$AG$6,"<="&Today)) -> 2
A13: Practice Spanish | B13: 20 | C13: ✓ | D13: ✓ | G13: ✓ | H13: ✓ | I13: ✓ | J13: ✓ | M13: ✓ | N13: ✓ | O13: ✓ | R13: ✓ | S13: ✓ | T13: ✓ | AH13: =IF(A13="","",(COUNTIF(C13:AG13,"✓")+COUNTIF(C13:AG13,"x"))) -> 12 | AI13: =IF(OR(A13="",N(B13)=0),"",AH13/B13) -> 0.6 | AJ13: =IF(A13="","",COUNTIFS(C13:AG13,"✓",$C$6:$AG$6,">"&(Today-7),$C$6:$AG$6,"<="&Today)+COUNTIFS(C13:AG13,"x",$C$6:$AG$6,">"&(Today-7),$C$6:$AG$6,"<="&Today)) -> 3
A14: Cook dinner at home | B14: 18 | C14: ✓ | D14: ✓ | E14: ✓ | G14: ✓ | H14: ✓ | K14: ✓ | L14: ✓ | M14: ✓ | P14: ✓ | Q14: ✓ | R14: ✓ | U14: ✓ | V14: ✓ | AH14: =IF(A14="","",(COUNTIF(C14:AG14,"✓")+COUNTIF(C14:AG14,"x"))) -> 13 | AI14: =IF(OR(A14="",N(B14)=0),"",AH14/B14) -> 0.72222222 | AJ14: =IF(A14="","",COUNTIFS(C14:AG14,"✓",$C$6:$AG$6,">"&(Today-7),$C$6:$AG$6,"<="&Today)+COUNTIFS(C14:AG14,"x",$C$6:$AG$6,">"&(Today-7),$C$6:$AG$6,"<="&Today)) -> 5
A15: Journal | B15: 15 | C15: ✓ | G15: ✓ | H15: ✓ | L15: ✓ | M15: ✓ | Q15: ✓ | R15: ✓ | S15: ✓ | V15: ✓ | AH15: =IF(A15="","",(COUNTIF(C15:AG15,"✓")+COUNTIF(C15:AG15,"x"))) -> 9 | AI15: =IF(OR(A15="",N(B15)=0),"",AH15/B15) -> 0.6 | AJ15: =IF(A15="","",COUNTIFS(C15:AG15,"✓",$C$6:$AG$6,">"&(Today-7),$C$6:$AG$6,"<="&Today)+COUNTIFS(C15:AG15,"x",$C$6:$AG$6,">"&(Today-7),$C$6:$AG$6,"<="&Today)) -> 4
AH16: =IF(A16="","",(COUNTIF(C16:AG16,"✓")+COUNTIF(C16:AG16,"x"))) | AI16: =IF(OR(A16="",N(B16)=0),"",AH16/B16) | AJ16: =IF(A16="","",COUNTIFS(C16:AG16,"✓",$C$6:$AG$6,">"&(Today-7),$C$6:$AG$6,"<="&Today)+COUNTIFS(C16:AG16,"x",$C$6:$AG$6,">"&(Today-7),$C$6:$AG$6,"<="&Today))
AH17: =IF(A17="","",(COUNTIF(C17:AG17,"✓")+COUNTIF(C17:AG17,"x"))) | AI17: =IF(OR(A17="",N(B17)=0),"",AH17/B17) | AJ17: =IF(A17="","",COUNTIFS(C17:AG17,"✓",$C$6:$AG$6,">"&(Today-7),$C$6:$AG$6,"<="&Today)+COUNTIFS(C17:AG17,"x",$C$6:$AG$6,">"&(Today-7),$C$6:$AG$6,"<="&Today))
AH18: =IF(A18="","",(COUNTIF(C18:AG18,"✓")+COUNTIF(C18:AG18,"x"))) | AI18: =IF(OR(A18="",N(B18)=0),"",AH18/B18) | AJ18: =IF(A18="","",COUNTIFS(C18:AG18,"✓",$C$6:$AG$6,">"&(Today-7),$C$6:$AG$6,"<="&Today)+COUNTIFS(C18:AG18,"x",$C$6:$AG$6,">"&(Today-7),$C$6:$AG$6,"<="&Today))
AH19: =IF(A19="","",(COUNTIF(C19:AG19,"✓")+COUNTIF(C19:AG19,"x"))) | AI19: =IF(OR(A19="",N(B19)=0),"",AH19/B19) | AJ19: =IF(A19="","",COUNTIFS(C19:AG19,"✓",$C$6:$AG$6,">"&(Today-7),$C$6:$AG$6,"<="&Today)+COUNTIFS(C19:AG19,"x",$C$6:$AG$6,">"&(Today-7),$C$6:$AG$6,"<="&Today))
A20: Check-ins | C20: =IF(NOT(ISNUMBER(C$6)),"",COUNTIF(C8:C19,"✓")+COUNTIF(C8:C19,"x")) -> 6 | D20: =IF(NOT(ISNUMBER(D$6)),"",COUNTIF(D8:D19,"✓")+COUNTIF(D8:D19,"x")) -> 4 | E20: =IF(NOT(ISNUMBER(E$6)),"",COUNTIF(E8:E19,"✓")+COUNTIF(E8:E19,"x")) -> 4 | F20: =IF(NOT(ISNUMBER(F$6)),"",COUNTIF(F8:F19,"✓")+COUNTIF(F8:F19,"x")) -> 5 | G20: =IF(NOT(ISNUMBER(G$6)),"",COUNTIF(G8:G19,"✓")+COUNTIF(G8:G19,"x")) -> 7 | H20: =IF(NOT(ISNUMBER(H$6)),"",COUNTIF(H8:H19,"✓")+COUNTIF(H8:H19,"x")) -> 6 | I20: =IF(NOT(ISNUMBER(I$6)),"",COUNTIF(I8:I19,"✓")+COUNTIF(I8:I19,"x")) -> 3 | J20: =IF(NOT(ISNUMBER(J$6)),"",COUNTIF(J8:J19,"✓")+COUNTIF(J8:J19,"x")) -> 3 | ... AG20: =IF(NOT(ISNUMBER(AG$6)),"",COUNTIF(AG8:AG19,"✓")+COUNTIF(AG8:AG19,"x")) -> 0 | AH20: =SUM(AH8:AH19) -> 99

Sheet Summary
A1: Habit summary
A2: =TEXT(Month1,"mmmm yyyy")&" / as of "&TEXT(Today,"d mmm") -> October 2026 / as of 20 Oct
A4: HABITS | E4: ON TRACK | I4: THIS MONTH | M4: LAST 7 DAYS
A5: =COUNTIF(Tracker!$A$8:$A$19,"?*") -> 8 | E5: =SUMPRODUCT(--(Tracker!$AH$8:$AH$19<>""),--(Tracker!$AH$8:$AH$19>=Tracker!$B$8:$B$19*MAX(0,MIN(DAY(EOMONTH(Month1,0)),Today-Month1+1))/DAY(EOMONTH(Month1,0)))) -> 2 | I5: =IF(SUM(Tracker!$B$8:$B$19)=0,0,Tracker!AH20/SUMIFS(Tracker!$B$8:$B$19,Tracker!$A$8:$A$19,"?*")) -> 0.62658228 | M5: =SUM(Tracker!AJ8:AJ19) -> 34
A7: =Tracker!AH20&" check-ins this month" -> 99 check-ins this month | E7: ="Ahead of the pace for their goal" -> Ahead of the pace for their goal | I7: ="Of all monthly goals" -> Of all monthly goals | M7: ="Check-ins in the past week" -> Check-ins in the past week
A23: On track = done so far is at least the goal × the share of the month that has passed. A new month: change the month on Tracker and clear the ticks, or keep a copy per month.
A24: Habits | I24: By day
A25: Habit | D25: Done | E25: Goal | F25: Of goal | G25: Last 7 | I25: Day | K25: Check-ins
A26: =IF(Tracker!A8="","",Tracker!A8) -> Walk 8,000 steps | D26: =IF(A26="","",Tracker!AH8) -> 16 | E26: =IF(A26="","",Tracker!B8) -> 25 | F26: =IF(A26="","",Tracker!AI8) -> 0.64 | G26: =IF(A26="","",Tracker!AJ8) -> 5 | I26: =Tracker!C6 -> 46296 | K26: =Tracker!C20 -> 6
A27: =IF(Tracker!A9="","",Tracker!A9) -> Read 20 minutes | D27: =IF(A27="","",Tracker!AH9) -> 12 | E27: =IF(A27="","",Tracker!B9) -> 20 | F27: =IF(A27="","",Tracker!AI9) -> 0.6 | G27: =IF(A27="","",Tracker!AJ9) -> 5 | I27: =Tracker!D6 -> 46297 | K27: =Tracker!D20 -> 4
A28: =IF(Tracker!A10="","",Tracker!A10) -> No phone after 10 pm | D28: =IF(A28="","",Tracker!AH10) -> 13 | E28: =IF(A28="","",Tracker!B10) -> 20 | F28: =IF(A28="","",Tracker!AI10) -> 0.65 | G28: =IF(A28="","",Tracker!AJ10) -> 4 | I28: =Tracker!E6 -> 46298 | K28: =Tracker!E20 -> 4
A29: =IF(Tracker!A11="","",Tracker!A11) -> Drink 2 litres of water | D29: =IF(A29="","",Tracker!AH11) -> 18 | E29: =IF(A29="","",Tracker!B11) -> 28 | F29: =IF(A29="","",Tracker!AI11) -> 0.64285714 | G29: =IF(A29="","",Tracker!AJ11) -> 6 | I29: =Tracker!F6 -> 46299 | K29: =Tracker!F20 -> 5
A30: =IF(Tracker!A12="","",Tracker!A12) -> Stretch or yoga | D30: =IF(A30="","",Tracker!AH12) -> 6 | E30: =IF(A30="","",Tracker!B12) -> 12 | F30: =IF(A30="","",Tracker!AI12) -> 0.5 | G30: =IF(A30="","",Tracker!AJ12) -> 2 | I30: =Tracker!G6 -> 46300 | K30: =Tracker!G20 -> 7
A31: =IF(Tracker!A13="","",Tracker!A13) -> Practice Spanish | D31: =IF(A31="","",Tracker!AH13) -> 12 | E31: =IF(A31="","",Tracker!B13) -> 20 | F31: =IF(A31="","",Tracker!AI13) -> 0.6 | G31: =IF(A31="","",Tracker!AJ13) -> 3 | I31: =Tracker!H6 -> 46301 | K31: =Tracker!H20 -> 6
A32: =IF(Tracker!A14="","",Tracker!A14) -> Cook dinner at home | D32: =IF(A32="","",Tracker!AH14) -> 13 | E32: =IF(A32="","",Tracker!B14) -> 18 | F32: =IF(A32="","",Tracker!AI14) -> 0.72222222 | G32: =IF(A32="","",Tracker!AJ14) -> 5 | I32: =Tracker!I6 -> 46302 | K32: =Tracker!I20 -> 3
A33: =IF(Tracker!A15="","",Tracker!A15) -> Journal | D33: =IF(A33="","",Tracker!AH15) -> 9 | E33: =IF(A33="","",Tracker!B15) -> 15 | F33: =IF(A33="","",Tracker!AI15) -> 0.6 | G33: =IF(A33="","",Tracker!AJ15) -> 4 | I33: =Tracker!J6 -> 46303 | K33: =Tracker!J20 -> 3
A34: =IF(Tracker!A16="","",Tracker!A16) | D34: =IF(A34="","",Tracker!AH16) | E34: =IF(A34="","",Tracker!B16) | F34: =IF(A34="","",Tracker!AI16) | G34: =IF(A34="","",Tracker!AJ16) | I34: =Tracker!K6 -> 46304 | K34: =Tracker!K20 -> 5
A35: =IF(Tracker!A17="","",Tracker!A17) | D35: =IF(A35="","",Tracker!AH17) | E35: =IF(A35="","",Tracker!B17) | F35: =IF(A35="","",Tracker!AI17) | G35: =IF(A35="","",Tracker!AJ17) | I35: =Tracker!L6 -> 46305 | K35: =Tracker!L20 -> 5
A36: =IF(Tracker!A18="","",Tracker!A18) | D36: =IF(A36="","",Tracker!AH18) | E36: =IF(A36="","",Tracker!B18) | F36: =IF(A36="","",Tracker!AI18) | G36: =IF(A36="","",Tracker!AJ18) | I36: =Tracker!M6 -> 46306 | K36: =Tracker!M20 -> 8
A37: =IF(Tracker!A19="","",Tracker!A19) | D37: =IF(A37="","",Tracker!AH19) | E37: =IF(A37="","",Tracker!B19) | F37: =IF(A37="","",Tracker!AI19) | G37: =IF(A37="","",Tracker!AJ19) | I37: =Tracker!N6 -> 46307 | K37: =Tracker!N20 -> 5
I38: =Tracker!O6 -> 46308 | K38: =Tracker!O20 -> 4
I39: =Tracker!P6 -> 46309 | K39: =Tracker!P20 -> 4
I40: =Tracker!Q6 -> 46310 | K40: =Tracker!Q20 -> 4
I41: =Tracker!R6 -> 46311 | K41: =Tracker!R20 -> 5
I42: =Tracker!S6 -> 46312 | K42: =Tracker!S20 -> 6
I43: =Tracker!T6 -> 46313 | K43: =Tracker!T20 -> 5
I44: =Tracker!U6 -> 46314 | K44: =Tracker!U20 -> 5
I45: =Tracker!V6 -> 46315 | K45: =Tracker!V20 -> 5
I46: =Tracker!W6 -> 46316 | K46: =Tracker!W20 -> 0
I47: =Tracker!X6 -> 46317 | K47: =Tracker!X20 -> 0
I48: =Tracker!Y6 -> 46318 | K48: =Tracker!Y20 -> 0
I49: =Tracker!Z6 -> 46319 | K49: =Tracker!Z20 -> 0
I50: =Tracker!AA6 -> 46320 | K50: =Tracker!AA20 -> 0
I51: =Tracker!AB6 -> 46321 | K51: =Tracker!AB20 -> 0
I52: =Tracker!AC6 -> 46322 | K52: =Tracker!AC20 -> 0
I53: =Tracker!AD6 -> 46323 | K53: =Tracker!AD20 -> 0
I54: =Tracker!AE6 -> 46324 | K54: =Tracker!AE20 -> 0
I55: =Tracker!AF6 -> 46325 | K55: =Tracker!AF20 -> 0
I56: =Tracker!AG6 -> 46326 | K56: =Tracker!AG20 -> 0

Sheet Instructions
A1: Habit tracker / start here
A2: Mint cells are inputs. White cells are calculated; edit the source rows instead.
A4: 1 HABITS | B4: Write up to 12 habits on Tracker and a goal: how many days this month you want to do each one.
A5: 2 CHECK IN | B5: Each day, pick ✓ from the drop-down (or type x) in the cells for the habits you kept. Today's column is highlighted.
A6: 3 REVIEW | B6: Done, Of goal and Last 7 days update as you go. Summary shows which habits are on track.
A7: NEW MONTH | B7: Download a copy to keep this month, then change Month and clear the ticks. Or duplicate the sheet.
A8: ROWS | B8: Input tables reserve rows 2–501 (500 records). To add more, extend every formula range, validation and conditional format together.
A9: YOUR COPY | B9: In ExcelCraft, use Download XLSX to keep your work. Nothing is saved to a server automatically.
A10: COMPATIBILITY | B10: No macros, external links or pivot tables. Formulas use standard functions that recalculate in Excel, Google Sheets, LibreOffice and ExcelCraft; layout and charts can vary slightly between apps.
A11: LICENSE | B11: Original workbook, formulas, instructions and fictional sample data by ExcelCraft. CC0 1.0 Universal (https://creativecommons.org/publicdomain/zero/1.0/). Sample names are invented.
