Workbook
Name Categories: Setup!$A$10:$A$14
Name ClassName: Setup!$B$4
Name Teacher: Setup!$B$6
Name Term: Setup!$B$5

Sheet Gradebook
A1: =ClassName&" gradebook" -> Grade 9 Biology, Period 3 gradebook
A2: =Term&IF(Teacher="",""," · "&Teacher)&" · Enter points earned. Blank = not submitted yet." -> Fall 2026 · Ms. Rivera · Enter points earned. Blank = not submitted yet.
A4: Assignment | C4: HW 1 | D4: HW 2 | E4: Quiz 1 | F4: HW 3 | G4: Project 1 | H4: Quiz 2 | I4: HW 4 | J4: Midterm | K4: HW 5 | L4: Quiz 3 | M4: Project 2
A5: Category | C5: Homework | D5: Homework | E5: Quizzes | F5: Homework | G5: Projects | H5: Quizzes | I5: Homework | J5: Exams | K5: Homework | L5: Quizzes | M5: Projects
A6: Max points | C6: 10 | D6: 10 | E6: 20 | F6: 10 | G6: 50 | H6: 20 | I6: 10 | J6: 100 | K6: 10 | L6: 20 | M6: 50
A7: Date | C7: 46269 | D7: 46273 | E7: 46277 | F7: 46281 | G7: 46285 | H7: 46289 | I7: 46293 | J7: 46297 | K7: 46301 | L7: 46305 | M7: 46309
A8: Class average | C8: =IF(OR(C$4="",COUNT(C10:C49)=0,N(C$6)=0),"",AVERAGE(C10:C49)/C$6) -> 0.76666667 | D8: =IF(OR(D$4="",COUNT(D10:D49)=0,N(D$6)=0),"",AVERAGE(D10:D49)/D$6) -> 0.76388889 | E8: =IF(OR(E$4="",COUNT(E10:E49)=0,N(E$6)=0),"",AVERAGE(E10:E49)/E$6) -> 0.76323529 | F8: =IF(OR(F$4="",COUNT(F10:F49)=0,N(F$6)=0),"",AVERAGE(F10:F49)/F$6) -> 0.75277778 | G8: =IF(OR(G$4="",COUNT(G10:G49)=0,N(G$6)=0),"",AVERAGE(G10:G49)/G$6) -> 0.76111111 | H8: =IF(OR(H$4="",COUNT(H10:H49)=0,N(H$6)=0),"",AVERAGE(H10:H49)/H$6) -> 0.76805556 | I8: =IF(OR(I$4="",COUNT(I10:I49)=0,N(I$6)=0),"",AVERAGE(I10:I49)/I$6) -> 0.775 | J8: =IF(OR(J$4="",COUNT(J10:J49)=0,N(J$6)=0),"",AVERAGE(J10:J49)/J$6) -> 0.78555556 | ... V8: =IF(OR(V$4="",COUNT(V10:V49)=0,N(V$6)=0),"",AVERAGE(V10:V49)/V$6)
A9: Student | B9: ID | C9: =IF(C4="","",C4) -> HW 1 | D9: =IF(D4="","",D4) -> HW 2 | E9: =IF(E4="","",E4) -> Quiz 1 | F9: =IF(F4="","",F4) -> HW 3 | G9: =IF(G4="","",G4) -> Project 1 | H9: =IF(H4="","",H4) -> Quiz 2 | I9: =IF(I4="","",I4) -> HW 4 | J9: =IF(J4="","",J4) -> Midterm | ... V9: =IF(V4="","",V4) | W9: =IF(Setup!A10="","",Setup!A10) -> Homework | X9: =IF(Setup!A11="","",Setup!A11) -> Quizzes | Y9: =IF(Setup!A12="","",Setup!A12) -> Projects | Z9: =IF(Setup!A13="","",Setup!A13) -> Exams | AA9: =IF(Setup!A14="","",Setup!A14) | AB9: Overall | AC9: Grade | AD9: Missing | AE9: Attention rank
A10: Ava Thompson | B10: S1001 | C10: 6 | D10: 6 | E10: 10.5 | F10: 7 | G10: 34 | H10: 12.5 | I10: 6 | J10: 54 | K10: 7.5 | L10: 14 | M10: 32 | W10: =IF(OR($A10="",W$9=""),"",IF(SUMIFS($C$6:$V$6,$C$5:$V$5,W$9,$C10:$V10,"<>")=0,"",SUMIFS($C10:$V10,$C$5:$V$5,W$9)/SUMIFS($C$6:$V$6,$C$5:$V$5,W$9,$C10:$V10,"<>"))) -> 0.65 | X10: =IF(OR($A10="",X$9=""),"",IF(SUMIFS($C$6:$V$6,$C$5:$V$5,X$9,$C10:$V10,"<>")=0,"",SUMIFS($C10:$V10,$C$5:$V$5,X$9)/SUMIFS($C$6:$V$6,$C$5:$V$5,X$9,$C10:$V10,"<>"))) -> 0.61666667 | Y10: =IF(OR($A10="",Y$9=""),"",IF(SUMIFS($C$6:$V$6,$C$5:$V$5,Y$9,$C10:$V10,"<>")=0,"",SUMIFS($C10:$V10,$C$5:$V$5,Y$9)/SUMIFS($C$6:$V$6,$C$5:$V$5,Y$9,$C10:$V10,"<>"))) -> 0.66 | Z10: =IF(OR($A10="",Z$9=""),"",IF(SUMIFS($C$6:$V$6,$C$5:$V$5,Z$9,$C10:$V10,"<>")=0,"",SUMIFS($C10:$V10,$C$5:$V$5,Z$9)/SUMIFS($C$6:$V$6,$C$5:$V$5,Z$9,$C10:$V10,"<>"))) -> 0.54 | AA10: =IF(OR($A10="",AA$9=""),"",IF(SUMIFS($C$6:$V$6,$C$5:$V$5,AA$9,$C10:$V10,"<>")=0,"",SUMIFS($C10:$V10,$C$5:$V$5,AA$9)/SUMIFS($C$6:$V$6,$C$5:$V$5,AA$9,$C10:$V10,"<>"))) | AB10: =IF($A10="","",IF((IF(W10="",0,N(Setup!$B$10))+IF(X10="",0,N(Setup!$B$11))+IF(Y10="",0,N(Setup!$B$12))+IF(Z10="",0,N(Setup!$B$13))+IF(AA10="",0,N(Setup!$B$14)))=0,"",(N(W10)*N(Setup!$B$10)+N(X10)*N(Setup!$B$11)+N(Y10)*N(Setup!$B$12)+N(Z10)*N(Setup!$B$13)+N(AA10)*N(Setup!$B$14))/(IF(W10="",0,N(Setup!$B$10))+IF(X10="",0,N(Setup!$B$11))+IF(Y10="",0,N(Setup!$B$12))+IF(Z10="",0,N(Setup!$B$13))+IF(AA10="",0,N(Setup!$B$14))))) -> 0.60733333 | AC10: =IF(OR($A10="",AB10=""),"",IF(AB10>=Setup!$E$10,Setup!$D$10,IF(AB10>=Setup!$E$11,Setup!$D$11,IF(AB10>=Setup!$E$12,Setup!$D$12,IF(AB10>=Setup!$E$13,Setup!$D$13,IF(AB10>=Setup!$E$14,Setup!$D$14,"")))))) -> D | AD10: =IF($A10="","",COUNTIFS($C$4:$V$4,"?*",$C$7:$V$7,"<="&TODAY(),$C10:$V10,"")) -> 0 | AE10: =IF(AB10="","",COUNTIF($AB$10:$AB$49,"<"&AB10)+COUNTIF($AB$10:AB10,AB10)) -> 1
A11: Ben Carter | B11: S1002 | C11: 6 | D11: 8 | E11: 15 | F11: 7 | G11: 32 | H11: 12 | I11: 8 | J11: 75 | K11: 7 | L11: 13 | M11: 30.5 | W11: =IF(OR($A11="",W$9=""),"",IF(SUMIFS($C$6:$V$6,$C$5:$V$5,W$9,$C11:$V11,"<>")=0,"",SUMIFS($C11:$V11,$C$5:$V$5,W$9)/SUMIFS($C$6:$V$6,$C$5:$V$5,W$9,$C11:$V11,"<>"))) -> 0.72 | X11: =IF(OR($A11="",X$9=""),"",IF(SUMIFS($C$6:$V$6,$C$5:$V$5,X$9,$C11:$V11,"<>")=0,"",SUMIFS($C11:$V11,$C$5:$V$5,X$9)/SUMIFS($C$6:$V$6,$C$5:$V$5,X$9,$C11:$V11,"<>"))) -> 0.66666667 | Y11: =IF(OR($A11="",Y$9=""),"",IF(SUMIFS($C$6:$V$6,$C$5:$V$5,Y$9,$C11:$V11,"<>")=0,"",SUMIFS($C11:$V11,$C$5:$V$5,Y$9)/SUMIFS($C$6:$V$6,$C$5:$V$5,Y$9,$C11:$V11,"<>"))) -> 0.625 | Z11: =IF(OR($A11="",Z$9=""),"",IF(SUMIFS($C$6:$V$6,$C$5:$V$5,Z$9,$C11:$V11,"<>")=0,"",SUMIFS($C11:$V11,$C$5:$V$5,Z$9)/SUMIFS($C$6:$V$6,$C$5:$V$5,Z$9,$C11:$V11,"<>"))) -> 0.75 | AA11: =IF(OR($A11="",AA$9=""),"",IF(SUMIFS($C$6:$V$6,$C$5:$V$5,AA$9,$C11:$V11,"<>")=0,"",SUMIFS($C11:$V11,$C$5:$V$5,AA$9)/SUMIFS($C$6:$V$6,$C$5:$V$5,AA$9,$C11:$V11,"<>"))) | AB11: =IF($A11="","",IF((IF(W11="",0,N(Setup!$B$10))+IF(X11="",0,N(Setup!$B$11))+IF(Y11="",0,N(Setup!$B$12))+IF(Z11="",0,N(Setup!$B$13))+IF(AA11="",0,N(Setup!$B$14)))=0,"",(N(W11)*N(Setup!$B$10)+N(X11)*N(Setup!$B$11)+N(Y11)*N(Setup!$B$12)+N(Z11)*N(Setup!$B$13)+N(AA11)*N(Setup!$B$14))/(IF(W11="",0,N(Setup!$B$10))+IF(X11="",0,N(Setup!$B$11))+IF(Y11="",0,N(Setup!$B$12))+IF(Z11="",0,N(Setup!$B$13))+IF(AA11="",0,N(Setup!$B$14))))) -> 0.69608333 | AC11: =IF(OR($A11="",AB11=""),"",IF(AB11>=Setup!$E$10,Setup!$D$10,IF(AB11>=Setup!$E$11,Setup!$D$11,IF(AB11>=Setup!$E$12,Setup!$D$12,IF(AB11>=Setup!$E$13,Setup!$D$13,IF(AB11>=Setup!$E$14,Setup!$D$14,"")))))) -> D | AD11: =IF($A11="","",COUNTIFS($C$4:$V$4,"?*",$C$7:$V$7,"<="&TODAY(),$C11:$V11,"")) -> 0 | AE11: =IF(AB11="","",COUNTIF($AB$10:$AB$49,"<"&AB11)+COUNTIF($AB$10:AB11,AB11)) -> 5
A12: Chloe Nguyen | B12: S1003 | C12: 6.5 | D12: 6 | E12: 16.5 | F12: 8 | G12: 36.5 | H12: 13.5 | I12: 6 | J12: 85 | K12: 8 | L12: 15 | M12: 34.5 | W12: =IF(OR($A12="",W$9=""),"",IF(SUMIFS($C$6:$V$6,$C$5:$V$5,W$9,$C12:$V12,"<>")=0,"",SUMIFS($C12:$V12,$C$5:$V$5,W$9)/SUMIFS($C$6:$V$6,$C$5:$V$5,W$9,$C12:$V12,"<>"))) -> 0.69 | X12: =IF(OR($A12="",X$9=""),"",IF(SUMIFS($C$6:$V$6,$C$5:$V$5,X$9,$C12:$V12,"<>")=0,"",SUMIFS($C12:$V12,$C$5:$V$5,X$9)/SUMIFS($C$6:$V$6,$C$5:$V$5,X$9,$C12:$V12,"<>"))) -> 0.75 | Y12: =IF(OR($A12="",Y$9=""),"",IF(SUMIFS($C$6:$V$6,$C$5:$V$5,Y$9,$C12:$V12,"<>")=0,"",SUMIFS($C12:$V12,$C$5:$V$5,Y$9)/SUMIFS($C$6:$V$6,$C$5:$V$5,Y$9,$C12:$V12,"<>"))) -> 0.71 | Z12: =IF(OR($A12="",Z$9=""),"",IF(SUMIFS($C$6:$V$6,$C$5:$V$5,Z$9,$C12:$V12,"<>")=0,"",SUMIFS($C12:$V12,$C$5:$V$5,Z$9)/SUMIFS($C$6:$V$6,$C$5:$V$5,Z$9,$C12:$V12,"<>"))) -> 0.85 | AA12: =IF(OR($A12="",AA$9=""),"",IF(SUMIFS($C$6:$V$6,$C$5:$V$5,AA$9,$C12:$V12,"<>")=0,"",SUMIFS($C12:$V12,$C$5:$V$5,AA$9)/SUMIFS($C$6:$V$6,$C$5:$V$5,AA$9,$C12:$V12,"<>"))) | AB12: =IF($A12="","",IF((IF(W12="",0,N(Setup!$B$10))+IF(X12="",0,N(Setup!$B$11))+IF(Y12="",0,N(Setup!$B$12))+IF(Z12="",0,N(Setup!$B$13))+IF(AA12="",0,N(Setup!$B$14)))=0,"",(N(W12)*N(Setup!$B$10)+N(X12)*N(Setup!$B$11)+N(Y12)*N(Setup!$B$12)+N(Z12)*N(Setup!$B$13)+N(AA12)*N(Setup!$B$14))/(IF(W12="",0,N(Setup!$B$10))+IF(X12="",0,N(Setup!$B$11))+IF(Y12="",0,N(Setup!$B$12))+IF(Z12="",0,N(Setup!$B$13))+IF(AA12="",0,N(Setup!$B$14))))) -> 0.763 | AC12: =IF(OR($A12="",AB12=""),"",IF(AB12>=Setup!$E$10,Setup!$D$10,IF(AB12>=Setup!$E$11,Setup!$D$11,IF(AB12>=Setup!$E$12,Setup!$D$12,IF(AB12>=Setup!$E$13,Setup!$D$13,IF(AB12>=Setup!$E$14,Setup!$D$14,"")))))) -> C | AD12: =IF($A12="","",COUNTIFS($C$4:$V$4,"?*",$C$7:$V$7,"<="&TODAY(),$C12:$V12,"")) -> 0 | AE12: =IF(AB12="","",COUNTIF($AB$10:$AB$49,"<"&AB12)+COUNTIF($AB$10:AB12,AB12)) -> 8
A13: Daniel Reyes | B13: S1004 | C13: 9 | D13: 8.5 | E13: 16 | F13: 7.5 | G13: 33.5 | H13: 18.5 | J13: 80 | K13: 7.5 | L13: 13.5 | M13: 46.5 | W13: =IF(OR($A13="",W$9=""),"",IF(SUMIFS($C$6:$V$6,$C$5:$V$5,W$9,$C13:$V13,"<>")=0,"",SUMIFS($C13:$V13,$C$5:$V$5,W$9)/SUMIFS($C$6:$V$6,$C$5:$V$5,W$9,$C13:$V13,"<>"))) -> 0.8125 | X13: =IF(OR($A13="",X$9=""),"",IF(SUMIFS($C$6:$V$6,$C$5:$V$5,X$9,$C13:$V13,"<>")=0,"",SUMIFS($C13:$V13,$C$5:$V$5,X$9)/SUMIFS($C$6:$V$6,$C$5:$V$5,X$9,$C13:$V13,"<>"))) -> 0.8 | Y13: =IF(OR($A13="",Y$9=""),"",IF(SUMIFS($C$6:$V$6,$C$5:$V$5,Y$9,$C13:$V13,"<>")=0,"",SUMIFS($C13:$V13,$C$5:$V$5,Y$9)/SUMIFS($C$6:$V$6,$C$5:$V$5,Y$9,$C13:$V13,"<>"))) -> 0.8 | Z13: =IF(OR($A13="",Z$9=""),"",IF(SUMIFS($C$6:$V$6,$C$5:$V$5,Z$9,$C13:$V13,"<>")=0,"",SUMIFS($C13:$V13,$C$5:$V$5,Z$9)/SUMIFS($C$6:$V$6,$C$5:$V$5,Z$9,$C13:$V13,"<>"))) -> 0.8 | AA13: =IF(OR($A13="",AA$9=""),"",IF(SUMIFS($C$6:$V$6,$C$5:$V$5,AA$9,$C13:$V13,"<>")=0,"",SUMIFS($C13:$V13,$C$5:$V$5,AA$9)/SUMIFS($C$6:$V$6,$C$5:$V$5,AA$9,$C13:$V13,"<>"))) | AB13: =IF($A13="","",IF((IF(W13="",0,N(Setup!$B$10))+IF(X13="",0,N(Setup!$B$11))+IF(Y13="",0,N(Setup!$B$12))+IF(Z13="",0,N(Setup!$B$13))+IF(AA13="",0,N(Setup!$B$14)))=0,"",(N(W13)*N(Setup!$B$10)+N(X13)*N(Setup!$B$11)+N(Y13)*N(Setup!$B$12)+N(Z13)*N(Setup!$B$13)+N(AA13)*N(Setup!$B$14))/(IF(W13="",0,N(Setup!$B$10))+IF(X13="",0,N(Setup!$B$11))+IF(Y13="",0,N(Setup!$B$12))+IF(Z13="",0,N(Setup!$B$13))+IF(AA13="",0,N(Setup!$B$14))))) -> 0.8025 | AC13: =IF(OR($A13="",AB13=""),"",IF(AB13>=Setup!$E$10,Setup!$D$10,IF(AB13>=Setup!$E$11,Setup!$D$11,IF(AB13>=Setup!$E$12,Setup!$D$12,IF(AB13>=Setup!$E$13,Setup!$D$13,IF(AB13>=Setup!$E$14,Setup!$D$14,"")))))) -> B | AD13: =IF($A13="","",COUNTIFS($C$4:$V$4,"?*",$C$7:$V$7,"<="&TODAY(),$C13:$V13,"")) -> 1 | AE13: =IF(AB13="","",COUNTIF($AB$10:$AB$49,"<"&AB13)+COUNTIF($AB$10:AB13,AB13)) -> 12
A14: Ella Brooks | B14: S1005 | C14: 10 | D14: 9.5 | E14: 17.5 | F14: 8 | G14: 37.5 | H14: 20 | I14: 9.5 | J14: 89 | K14: 8.5 | L14: 19 | M14: 44 | W14: =IF(OR($A14="",W$9=""),"",IF(SUMIFS($C$6:$V$6,$C$5:$V$5,W$9,$C14:$V14,"<>")=0,"",SUMIFS($C14:$V14,$C$5:$V$5,W$9)/SUMIFS($C$6:$V$6,$C$5:$V$5,W$9,$C14:$V14,"<>"))) -> 0.91 | X14: =IF(OR($A14="",X$9=""),"",IF(SUMIFS($C$6:$V$6,$C$5:$V$5,X$9,$C14:$V14,"<>")=0,"",SUMIFS($C14:$V14,$C$5:$V$5,X$9)/SUMIFS($C$6:$V$6,$C$5:$V$5,X$9,$C14:$V14,"<>"))) -> 0.94166667 | Y14: =IF(OR($A14="",Y$9=""),"",IF(SUMIFS($C$6:$V$6,$C$5:$V$5,Y$9,$C14:$V14,"<>")=0,"",SUMIFS($C14:$V14,$C$5:$V$5,Y$9)/SUMIFS($C$6:$V$6,$C$5:$V$5,Y$9,$C14:$V14,"<>"))) -> 0.815 | Z14: =IF(OR($A14="",Z$9=""),"",IF(SUMIFS($C$6:$V$6,$C$5:$V$5,Z$9,$C14:$V14,"<>")=0,"",SUMIFS($C14:$V14,$C$5:$V$5,Z$9)/SUMIFS($C$6:$V$6,$C$5:$V$5,Z$9,$C14:$V14,"<>"))) -> 0.89 | AA14: =IF(OR($A14="",AA$9=""),"",IF(SUMIFS($C$6:$V$6,$C$5:$V$5,AA$9,$C14:$V14,"<>")=0,"",SUMIFS($C14:$V14,$C$5:$V$5,AA$9)/SUMIFS($C$6:$V$6,$C$5:$V$5,AA$9,$C14:$V14,"<>"))) | AB14: =IF($A14="","",IF((IF(W14="",0,N(Setup!$B$10))+IF(X14="",0,N(Setup!$B$11))+IF(Y14="",0,N(Setup!$B$12))+IF(Z14="",0,N(Setup!$B$13))+IF(AA14="",0,N(Setup!$B$14)))=0,"",(N(W14)*N(Setup!$B$10)+N(X14)*N(Setup!$B$11)+N(Y14)*N(Setup!$B$12)+N(Z14)*N(Setup!$B$13)+N(AA14)*N(Setup!$B$14))/(IF(W14="",0,N(Setup!$B$10))+IF(X14="",0,N(Setup!$B$11))+IF(Y14="",0,N(Setup!$B$12))+IF(Z14="",0,N(Setup!$B$13))+IF(AA14="",0,N(Setup!$B$14))))) -> 0.88558333 | AC14: =IF(OR($A14="",AB14=""),"",IF(AB14>=Setup!$E$10,Setup!$D$10,IF(AB14>=Setup!$E$11,Setup!$D$11,IF(AB14>=Setup!$E$12,Setup!$D$12,IF(AB14>=Setup!$E$13,Setup!$D$13,IF(AB14>=Setup!$E$14,Setup!$D$14,"")))))) -> B | AD14: =IF($A14="","",COUNTIFS($C$4:$V$4,"?*",$C$7:$V$7,"<="&TODAY(),$C14:$V14,"")) -> 0 | AE14: =IF(AB14="","",COUNTIF($AB$10:$AB$49,"<"&AB14)+COUNTIF($AB$10:AB14,AB14)) -> 15
A15: Finn O'Neill | B15: S1006 | C15: 9.5 | D15: 8.5 | E15: 16 | F15: 10 | G15: 50 | H15: 19 | I15: 9 | J15: 82 | K15: 7.5 | L15: 20 | M15: 48.5 | W15: =IF(OR($A15="",W$9=""),"",IF(SUMIFS($C$6:$V$6,$C$5:$V$5,W$9,$C15:$V15,"<>")=0,"",SUMIFS($C15:$V15,$C$5:$V$5,W$9)/SUMIFS($C$6:$V$6,$C$5:$V$5,W$9,$C15:$V15,"<>"))) -> 0.89 | X15: =IF(OR($A15="",X$9=""),"",IF(SUMIFS($C$6:$V$6,$C$5:$V$5,X$9,$C15:$V15,"<>")=0,"",SUMIFS($C15:$V15,$C$5:$V$5,X$9)/SUMIFS($C$6:$V$6,$C$5:$V$5,X$9,$C15:$V15,"<>"))) -> 0.91666667 | Y15: =IF(OR($A15="",Y$9=""),"",IF(SUMIFS($C$6:$V$6,$C$5:$V$5,Y$9,$C15:$V15,"<>")=0,"",SUMIFS($C15:$V15,$C$5:$V$5,Y$9)/SUMIFS($C$6:$V$6,$C$5:$V$5,Y$9,$C15:$V15,"<>"))) -> 0.985 | Z15: =IF(OR($A15="",Z$9=""),"",IF(SUMIFS($C$6:$V$6,$C$5:$V$5,Z$9,$C15:$V15,"<>")=0,"",SUMIFS($C15:$V15,$C$5:$V$5,Z$9)/SUMIFS($C$6:$V$6,$C$5:$V$5,Z$9,$C15:$V15,"<>"))) -> 0.82 | AA15: =IF(OR($A15="",AA$9=""),"",IF(SUMIFS($C$6:$V$6,$C$5:$V$5,AA$9,$C15:$V15,"<>")=0,"",SUMIFS($C15:$V15,$C$5:$V$5,AA$9)/SUMIFS($C$6:$V$6,$C$5:$V$5,AA$9,$C15:$V15,"<>"))) | AB15: =IF($A15="","",IF((IF(W15="",0,N(Setup!$B$10))+IF(X15="",0,N(Setup!$B$11))+IF(Y15="",0,N(Setup!$B$12))+IF(Z15="",0,N(Setup!$B$13))+IF(AA15="",0,N(Setup!$B$14)))=0,"",(N(W15)*N(Setup!$B$10)+N(X15)*N(Setup!$B$11)+N(Y15)*N(Setup!$B$12)+N(Z15)*N(Setup!$B$13)+N(AA15)*N(Setup!$B$14))/(IF(W15="",0,N(Setup!$B$10))+IF(X15="",0,N(Setup!$B$11))+IF(Y15="",0,N(Setup!$B$12))+IF(Z15="",0,N(Setup!$B$13))+IF(AA15="",0,N(Setup!$B$14))))) -> 0.89458333 | AC15: =IF(OR($A15="",AB15=""),"",IF(AB15>=Setup!$E$10,Setup!$D$10,IF(AB15>=Setup!$E$11,Setup!$D$11,IF(AB15>=Setup!$E$12,Setup!$D$12,IF(AB15>=Setup!$E$13,Setup!$D$13,IF(AB15>=Setup!$E$14,Setup!$D$14,"")))))) -> B | AD15: =IF($A15="","",COUNTIFS($C$4:$V$4,"?*",$C$7:$V$7,"<="&TODAY(),$C15:$V15,"")) -> 0 | AE15: =IF(AB15="","",COUNTIF($AB$10:$AB$49,"<"&AB15)+COUNTIF($AB$10:AB15,AB15)) -> 17
A16: Grace Kim | B16: S1007 | C16: 7 | D16: 6.5 | E16: 12 | F16: 5.5 | G16: 38.5 | H16: 12 | I16: 5.5 | J16: 75 | K16: 7 | L16: 13 | M16: 30.5 | W16: =IF(OR($A16="",W$9=""),"",IF(SUMIFS($C$6:$V$6,$C$5:$V$5,W$9,$C16:$V16,"<>")=0,"",SUMIFS($C16:$V16,$C$5:$V$5,W$9)/SUMIFS($C$6:$V$6,$C$5:$V$5,W$9,$C16:$V16,"<>"))) -> 0.63 | X16: =IF(OR($A16="",X$9=""),"",IF(SUMIFS($C$6:$V$6,$C$5:$V$5,X$9,$C16:$V16,"<>")=0,"",SUMIFS($C16:$V16,$C$5:$V$5,X$9)/SUMIFS($C$6:$V$6,$C$5:$V$5,X$9,$C16:$V16,"<>"))) -> 0.61666667 | Y16: =IF(OR($A16="",Y$9=""),"",IF(SUMIFS($C$6:$V$6,$C$5:$V$5,Y$9,$C16:$V16,"<>")=0,"",SUMIFS($C16:$V16,$C$5:$V$5,Y$9)/SUMIFS($C$6:$V$6,$C$5:$V$5,Y$9,$C16:$V16,"<>"))) -> 0.69 | Z16: =IF(OR($A16="",Z$9=""),"",IF(SUMIFS($C$6:$V$6,$C$5:$V$5,Z$9,$C16:$V16,"<>")=0,"",SUMIFS($C16:$V16,$C$5:$V$5,Z$9)/SUMIFS($C$6:$V$6,$C$5:$V$5,Z$9,$C16:$V16,"<>"))) -> 0.75 | AA16: =IF(OR($A16="",AA$9=""),"",IF(SUMIFS($C$6:$V$6,$C$5:$V$5,AA$9,$C16:$V16,"<>")=0,"",SUMIFS($C16:$V16,$C$5:$V$5,AA$9)/SUMIFS($C$6:$V$6,$C$5:$V$5,AA$9,$C16:$V16,"<>"))) | AB16: =IF($A16="","",IF((IF(W16="",0,N(Setup!$B$10))+IF(X16="",0,N(Setup!$B$11))+IF(Y16="",0,N(Setup!$B$12))+IF(Z16="",0,N(Setup!$B$13))+IF(AA16="",0,N(Setup!$B$14)))=0,"",(N(W16)*N(Setup!$B$10)+N(X16)*N(Setup!$B$11)+N(Y16)*N(Setup!$B$12)+N(Z16)*N(Setup!$B$13)+N(AA16)*N(Setup!$B$14))/(IF(W16="",0,N(Setup!$B$10))+IF(X16="",0,N(Setup!$B$11))+IF(Y16="",0,N(Setup!$B$12))+IF(Z16="",0,N(Setup!$B$13))+IF(AA16="",0,N(Setup!$B$14))))) -> 0.68433333 | AC16: =IF(OR($A16="",AB16=""),"",IF(AB16>=Setup!$E$10,Setup!$D$10,IF(AB16>=Setup!$E$11,Setup!$D$11,IF(AB16>=Setup!$E$12,Setup!$D$12,IF(AB16>=Setup!$E$13,Setup!$D$13,IF(AB16>=Setup!$E$14,Setup!$D$14,"")))))) -> D | AD16: =IF($A16="","",COUNTIFS($C$4:$V$4,"?*",$C$7:$V$7,"<="&TODAY(),$C16:$V16,"")) -> 0 | AE16: =IF(AB16="","",COUNTIF($AB$10:$AB$49,"<"&AB16)+COUNTIF($AB$10:AB16,AB16)) -> 4
A17: Henry Patel | B17: S1008 | C17: 6.5 | D17: 6 | E17: 17 | F17: 8 | G17: 36.5 | H17: 13.5 | I17: 6 | J17: 85 | K17: 8 | L17: 15 | M17: 34.5 | W17: =IF(OR($A17="",W$9=""),"",IF(SUMIFS($C$6:$V$6,$C$5:$V$5,W$9,$C17:$V17,"<>")=0,"",SUMIFS($C17:$V17,$C$5:$V$5,W$9)/SUMIFS($C$6:$V$6,$C$5:$V$5,W$9,$C17:$V17,"<>"))) -> 0.69 | X17: =IF(OR($A17="",X$9=""),"",IF(SUMIFS($C$6:$V$6,$C$5:$V$5,X$9,$C17:$V17,"<>")=0,"",SUMIFS($C17:$V17,$C$5:$V$5,X$9)/SUMIFS($C$6:$V$6,$C$5:$V$5,X$9,$C17:$V17,"<>"))) -> 0.75833333 | Y17: =IF(OR($A17="",Y$9=""),"",IF(SUMIFS($C$6:$V$6,$C$5:$V$5,Y$9,$C17:$V17,"<>")=0,"",SUMIFS($C17:$V17,$C$5:$V$5,Y$9)/SUMIFS($C$6:$V$6,$C$5:$V$5,Y$9,$C17:$V17,"<>"))) -> 0.71 | Z17: =IF(OR($A17="",Z$9=""),"",IF(SUMIFS($C$6:$V$6,$C$5:$V$5,Z$9,$C17:$V17,"<>")=0,"",SUMIFS($C17:$V17,$C$5:$V$5,Z$9)/SUMIFS($C$6:$V$6,$C$5:$V$5,Z$9,$C17:$V17,"<>"))) -> 0.85 | AA17: =IF(OR($A17="",AA$9=""),"",IF(SUMIFS($C$6:$V$6,$C$5:$V$5,AA$9,$C17:$V17,"<>")=0,"",SUMIFS($C17:$V17,$C$5:$V$5,AA$9)/SUMIFS($C$6:$V$6,$C$5:$V$5,AA$9,$C17:$V17,"<>"))) | AB17: =IF($A17="","",IF((IF(W17="",0,N(Setup!$B$10))+IF(X17="",0,N(Setup!$B$11))+IF(Y17="",0,N(Setup!$B$12))+IF(Z17="",0,N(Setup!$B$13))+IF(AA17="",0,N(Setup!$B$14)))=0,"",(N(W17)*N(Setup!$B$10)+N(X17)*N(Setup!$B$11)+N(Y17)*N(Setup!$B$12)+N(Z17)*N(Setup!$B$13)+N(AA17)*N(Setup!$B$14))/(IF(W17="",0,N(Setup!$B$10))+IF(X17="",0,N(Setup!$B$11))+IF(Y17="",0,N(Setup!$B$12))+IF(Z17="",0,N(Setup!$B$13))+IF(AA17="",0,N(Setup!$B$14))))) -> 0.76466667 | AC17: =IF(OR($A17="",AB17=""),"",IF(AB17>=Setup!$E$10,Setup!$D$10,IF(AB17>=Setup!$E$11,Setup!$D$11,IF(AB17>=Setup!$E$12,Setup!$D$12,IF(AB17>=Setup!$E$13,Setup!$D$13,IF(AB17>=Setup!$E$14,Setup!$D$14,"")))))) -> C | AD17: =IF($A17="","",COUNTIFS($C$4:$V$4,"?*",$C$7:$V$7,"<="&TODAY(),$C17:$V17,"")) -> 0 | AE17: =IF(AB17="","",COUNTIF($AB$10:$AB$49,"<"&AB17)+COUNTIF($AB$10:AB17,AB17)) -> 9
A18: Isla Moreno | B18: S1009 | C18: 7.5 | D18: 7 | F18: 7.5 | G18: 34 | H18: 18.5 | I18: 8.5 | J18: 80 | K18: 7.5 | L18: 14 | M18: 46.5 | W18: =IF(OR($A18="",W$9=""),"",IF(SUMIFS($C$6:$V$6,$C$5:$V$5,W$9,$C18:$V18,"<>")=0,"",SUMIFS($C18:$V18,$C$5:$V$5,W$9)/SUMIFS($C$6:$V$6,$C$5:$V$5,W$9,$C18:$V18,"<>"))) -> 0.76 | X18: =IF(OR($A18="",X$9=""),"",IF(SUMIFS($C$6:$V$6,$C$5:$V$5,X$9,$C18:$V18,"<>")=0,"",SUMIFS($C18:$V18,$C$5:$V$5,X$9)/SUMIFS($C$6:$V$6,$C$5:$V$5,X$9,$C18:$V18,"<>"))) -> 0.8125 | Y18: =IF(OR($A18="",Y$9=""),"",IF(SUMIFS($C$6:$V$6,$C$5:$V$5,Y$9,$C18:$V18,"<>")=0,"",SUMIFS($C18:$V18,$C$5:$V$5,Y$9)/SUMIFS($C$6:$V$6,$C$5:$V$5,Y$9,$C18:$V18,"<>"))) -> 0.805 | Z18: =IF(OR($A18="",Z$9=""),"",IF(SUMIFS($C$6:$V$6,$C$5:$V$5,Z$9,$C18:$V18,"<>")=0,"",SUMIFS($C18:$V18,$C$5:$V$5,Z$9)/SUMIFS($C$6:$V$6,$C$5:$V$5,Z$9,$C18:$V18,"<>"))) -> 0.8 | AA18: =IF(OR($A18="",AA$9=""),"",IF(SUMIFS($C$6:$V$6,$C$5:$V$5,AA$9,$C18:$V18,"<>")=0,"",SUMIFS($C18:$V18,$C$5:$V$5,AA$9)/SUMIFS($C$6:$V$6,$C$5:$V$5,AA$9,$C18:$V18,"<>"))) | AB18: =IF($A18="","",IF((IF(W18="",0,N(Setup!$B$10))+IF(X18="",0,N(Setup!$B$11))+IF(Y18="",0,N(Setup!$B$12))+IF(Z18="",0,N(Setup!$B$13))+IF(AA18="",0,N(Setup!$B$14)))=0,"",(N(W18)*N(Setup!$B$10)+N(X18)*N(Setup!$B$11)+N(Y18)*N(Setup!$B$12)+N(Z18)*N(Setup!$B$13)+N(AA18)*N(Setup!$B$14))/(IF(W18="",0,N(Setup!$B$10))+IF(X18="",0,N(Setup!$B$11))+IF(Y18="",0,N(Setup!$B$12))+IF(Z18="",0,N(Setup!$B$13))+IF(AA18="",0,N(Setup!$B$14))))) -> 0.79575 | AC18: =IF(OR($A18="",AB18=""),"",IF(AB18>=Setup!$E$10,Setup!$D$10,IF(AB18>=Setup!$E$11,Setup!$D$11,IF(AB18>=Setup!$E$12,Setup!$D$12,IF(AB18>=Setup!$E$13,Setup!$D$13,IF(AB18>=Setup!$E$14,Setup!$D$14,"")))))) -> C | AD18: =IF($A18="","",COUNTIFS($C$4:$V$4,"?*",$C$7:$V$7,"<="&TODAY(),$C18:$V18,"")) -> 1 | AE18: =IF(AB18="","",COUNTIF($AB$10:$AB$49,"<"&AB18)+COUNTIF($AB$10:AB18,AB18)) -> 11
A19: Jack Wilson | B19: S1010 | C19: 10 | D19: 9.5 | E19: 17.5 | F19: 8 | G19: 38 | H19: 14 | I19: 9.5 | J19: 90 | K19: 8.5 | L19: 15.5 | M19: 35.5 | W19: =IF(OR($A19="",W$9=""),"",IF(SUMIFS($C$6:$V$6,$C$5:$V$5,W$9,$C19:$V19,"<>")=0,"",SUMIFS($C19:$V19,$C$5:$V$5,W$9)/SUMIFS($C$6:$V$6,$C$5:$V$5,W$9,$C19:$V19,"<>"))) -> 0.91 | X19: =IF(OR($A19="",X$9=""),"",IF(SUMIFS($C$6:$V$6,$C$5:$V$5,X$9,$C19:$V19,"<>")=0,"",SUMIFS($C19:$V19,$C$5:$V$5,X$9)/SUMIFS($C$6:$V$6,$C$5:$V$5,X$9,$C19:$V19,"<>"))) -> 0.78333333 | Y19: =IF(OR($A19="",Y$9=""),"",IF(SUMIFS($C$6:$V$6,$C$5:$V$5,Y$9,$C19:$V19,"<>")=0,"",SUMIFS($C19:$V19,$C$5:$V$5,Y$9)/SUMIFS($C$6:$V$6,$C$5:$V$5,Y$9,$C19:$V19,"<>"))) -> 0.735 | Z19: =IF(OR($A19="",Z$9=""),"",IF(SUMIFS($C$6:$V$6,$C$5:$V$5,Z$9,$C19:$V19,"<>")=0,"",SUMIFS($C19:$V19,$C$5:$V$5,Z$9)/SUMIFS($C$6:$V$6,$C$5:$V$5,Z$9,$C19:$V19,"<>"))) -> 0.9 | AA19: =IF(OR($A19="",AA$9=""),"",IF(SUMIFS($C$6:$V$6,$C$5:$V$5,AA$9,$C19:$V19,"<>")=0,"",SUMIFS($C19:$V19,$C$5:$V$5,AA$9)/SUMIFS($C$6:$V$6,$C$5:$V$5,AA$9,$C19:$V19,"<>"))) | AB19: =IF($A19="","",IF((IF(W19="",0,N(Setup!$B$10))+IF(X19="",0,N(Setup!$B$11))+IF(Y19="",0,N(Setup!$B$12))+IF(Z19="",0,N(Setup!$B$13))+IF(AA19="",0,N(Setup!$B$14)))=0,"",(N(W19)*N(Setup!$B$10)+N(X19)*N(Setup!$B$11)+N(Y19)*N(Setup!$B$12)+N(Z19)*N(Setup!$B$13)+N(AA19)*N(Setup!$B$14))/(IF(W19="",0,N(Setup!$B$10))+IF(X19="",0,N(Setup!$B$11))+IF(Y19="",0,N(Setup!$B$12))+IF(Z19="",0,N(Setup!$B$13))+IF(AA19="",0,N(Setup!$B$14))))) -> 0.83741667 | AC19: =IF(OR($A19="",AB19=""),"",IF(AB19>=Setup!$E$10,Setup!$D$10,IF(AB19>=Setup!$E$11,Setup!$D$11,IF(AB19>=Setup!$E$12,Setup!$D$12,IF(AB19>=Setup!$E$13,Setup!$D$13,IF(AB19>=Setup!$E$14,Setup!$D$14,"")))))) -> B | AD19: =IF($A19="","",COUNTIFS($C$4:$V$4,"?*",$C$7:$V$7,"<="&TODAY(),$C19:$V19,"")) -> 0 | AE19: =IF(AB19="","",COUNTIF($AB$10:$AB$49,"<"&AB19)+COUNTIF($AB$10:AB19,AB19)) -> 14
A20: Kai Anders | B20: S1011 | C20: 9.5 | D20: 9 | E20: 16 | F20: 7.5 | G20: 50 | H20: 19 | I20: 9 | J20: 83 | K20: 7.5 | L20: 20 | M20: 49 | W20: =IF(OR($A20="",W$9=""),"",IF(SUMIFS($C$6:$V$6,$C$5:$V$5,W$9,$C20:$V20,"<>")=0,"",SUMIFS($C20:$V20,$C$5:$V$5,W$9)/SUMIFS($C$6:$V$6,$C$5:$V$5,W$9,$C20:$V20,"<>"))) -> 0.85 | X20: =IF(OR($A20="",X$9=""),"",IF(SUMIFS($C$6:$V$6,$C$5:$V$5,X$9,$C20:$V20,"<>")=0,"",SUMIFS($C20:$V20,$C$5:$V$5,X$9)/SUMIFS($C$6:$V$6,$C$5:$V$5,X$9,$C20:$V20,"<>"))) -> 0.91666667 | Y20: =IF(OR($A20="",Y$9=""),"",IF(SUMIFS($C$6:$V$6,$C$5:$V$5,Y$9,$C20:$V20,"<>")=0,"",SUMIFS($C20:$V20,$C$5:$V$5,Y$9)/SUMIFS($C$6:$V$6,$C$5:$V$5,Y$9,$C20:$V20,"<>"))) -> 0.99 | Z20: =IF(OR($A20="",Z$9=""),"",IF(SUMIFS($C$6:$V$6,$C$5:$V$5,Z$9,$C20:$V20,"<>")=0,"",SUMIFS($C20:$V20,$C$5:$V$5,Z$9)/SUMIFS($C$6:$V$6,$C$5:$V$5,Z$9,$C20:$V20,"<>"))) -> 0.83 | AA20: =IF(OR($A20="",AA$9=""),"",IF(SUMIFS($C$6:$V$6,$C$5:$V$5,AA$9,$C20:$V20,"<>")=0,"",SUMIFS($C20:$V20,$C$5:$V$5,AA$9)/SUMIFS($C$6:$V$6,$C$5:$V$5,AA$9,$C20:$V20,"<>"))) | AB20: =IF($A20="","",IF((IF(W20="",0,N(Setup!$B$10))+IF(X20="",0,N(Setup!$B$11))+IF(Y20="",0,N(Setup!$B$12))+IF(Z20="",0,N(Setup!$B$13))+IF(AA20="",0,N(Setup!$B$14)))=0,"",(N(W20)*N(Setup!$B$10)+N(X20)*N(Setup!$B$11)+N(Y20)*N(Setup!$B$12)+N(Z20)*N(Setup!$B$13)+N(AA20)*N(Setup!$B$14))/(IF(W20="",0,N(Setup!$B$10))+IF(X20="",0,N(Setup!$B$11))+IF(Y20="",0,N(Setup!$B$12))+IF(Z20="",0,N(Setup!$B$13))+IF(AA20="",0,N(Setup!$B$14))))) -> 0.89133333 | AC20: =IF(OR($A20="",AB20=""),"",IF(AB20>=Setup!$E$10,Setup!$D$10,IF(AB20>=Setup!$E$11,Setup!$D$11,IF(AB20>=Setup!$E$12,Setup!$D$12,IF(AB20>=Setup!$E$13,Setup!$D$13,IF(AB20>=Setup!$E$14,Setup!$D$14,"")))))) -> B | AD20: =IF($A20="","",COUNTIFS($C$4:$V$4,"?*",$C$7:$V$7,"<="&TODAY(),$C20:$V20,"")) -> 0 | AE20: =IF(AB20="","",COUNTIF($AB$10:$AB$49,"<"&AB20)+COUNTIF($AB$10:AB20,AB20)) -> 16
A21: Lily Zhang | B21: S1012 | C21: 7 | D21: 6.5 | E21: 12 | F21: 5.5 | G21: 38.5 | H21: 14.5 | I21: 6.5 | J21: 62 | K21: 6 | L21: 15.5 | M21: 36.5 | W21: =IF(OR($A21="",W$9=""),"",IF(SUMIFS($C$6:$V$6,$C$5:$V$5,W$9,$C21:$V21,"<>")=0,"",SUMIFS($C21:$V21,$C$5:$V$5,W$9)/SUMIFS($C$6:$V$6,$C$5:$V$5,W$9,$C21:$V21,"<>"))) -> 0.63 | X21: =IF(OR($A21="",X$9=""),"",IF(SUMIFS($C$6:$V$6,$C$5:$V$5,X$9,$C21:$V21,"<>")=0,"",SUMIFS($C21:$V21,$C$5:$V$5,X$9)/SUMIFS($C$6:$V$6,$C$5:$V$5,X$9,$C21:$V21,"<>"))) -> 0.7 | Y21: =IF(OR($A21="",Y$9=""),"",IF(SUMIFS($C$6:$V$6,$C$5:$V$5,Y$9,$C21:$V21,"<>")=0,"",SUMIFS($C21:$V21,$C$5:$V$5,Y$9)/SUMIFS($C$6:$V$6,$C$5:$V$5,Y$9,$C21:$V21,"<>"))) -> 0.75 | Z21: =IF(OR($A21="",Z$9=""),"",IF(SUMIFS($C$6:$V$6,$C$5:$V$5,Z$9,$C21:$V21,"<>")=0,"",SUMIFS($C21:$V21,$C$5:$V$5,Z$9)/SUMIFS($C$6:$V$6,$C$5:$V$5,Z$9,$C21:$V21,"<>"))) -> 0.62 | AA21: =IF(OR($A21="",AA$9=""),"",IF(SUMIFS($C$6:$V$6,$C$5:$V$5,AA$9,$C21:$V21,"<>")=0,"",SUMIFS($C21:$V21,$C$5:$V$5,AA$9)/SUMIFS($C$6:$V$6,$C$5:$V$5,AA$9,$C21:$V21,"<>"))) | AB21: =IF($A21="","",IF((IF(W21="",0,N(Setup!$B$10))+IF(X21="",0,N(Setup!$B$11))+IF(Y21="",0,N(Setup!$B$12))+IF(Z21="",0,N(Setup!$B$13))+IF(AA21="",0,N(Setup!$B$14)))=0,"",(N(W21)*N(Setup!$B$10)+N(X21)*N(Setup!$B$11)+N(Y21)*N(Setup!$B$12)+N(Z21)*N(Setup!$B$13)+N(AA21)*N(Setup!$B$14))/(IF(W21="",0,N(Setup!$B$10))+IF(X21="",0,N(Setup!$B$11))+IF(Y21="",0,N(Setup!$B$12))+IF(Z21="",0,N(Setup!$B$13))+IF(AA21="",0,N(Setup!$B$14))))) -> 0.6705 | AC21: =IF(OR($A21="",AB21=""),"",IF(AB21>=Setup!$E$10,Setup!$D$10,IF(AB21>=Setup!$E$11,Setup!$D$11,IF(AB21>=Setup!$E$12,Setup!$D$12,IF(AB21>=Setup!$E$13,Setup!$D$13,IF(AB21>=Setup!$E$14,Setup!$D$14,"")))))) -> D | AD21: =IF($A21="","",COUNTIFS($C$4:$V$4,"?*",$C$7:$V$7,"<="&TODAY(),$C21:$V21,"")) -> 0 | AE21: =IF(AB21="","",COUNTIF($AB$10:$AB$49,"<"&AB21)+COUNTIF($AB$10:AB21,AB21)) -> 3
A22: Mason Hughes | B22: S1013 | C22: 6.5 | D22: 6 | E22: 17 | F22: 8 | G22: 36.5 | H22: 13.5 | J22: 85 | K22: 8 | M22: 34.5 | W22: =IF(OR($A22="",W$9=""),"",IF(SUMIFS($C$6:$V$6,$C$5:$V$5,W$9,$C22:$V22,"<>")=0,"",SUMIFS($C22:$V22,$C$5:$V$5,W$9)/SUMIFS($C$6:$V$6,$C$5:$V$5,W$9,$C22:$V22,"<>"))) -> 0.7125 | X22: =IF(OR($A22="",X$9=""),"",IF(SUMIFS($C$6:$V$6,$C$5:$V$5,X$9,$C22:$V22,"<>")=0,"",SUMIFS($C22:$V22,$C$5:$V$5,X$9)/SUMIFS($C$6:$V$6,$C$5:$V$5,X$9,$C22:$V22,"<>"))) -> 0.7625 | Y22: =IF(OR($A22="",Y$9=""),"",IF(SUMIFS($C$6:$V$6,$C$5:$V$5,Y$9,$C22:$V22,"<>")=0,"",SUMIFS($C22:$V22,$C$5:$V$5,Y$9)/SUMIFS($C$6:$V$6,$C$5:$V$5,Y$9,$C22:$V22,"<>"))) -> 0.71 | Z22: =IF(OR($A22="",Z$9=""),"",IF(SUMIFS($C$6:$V$6,$C$5:$V$5,Z$9,$C22:$V22,"<>")=0,"",SUMIFS($C22:$V22,$C$5:$V$5,Z$9)/SUMIFS($C$6:$V$6,$C$5:$V$5,Z$9,$C22:$V22,"<>"))) -> 0.85 | AA22: =IF(OR($A22="",AA$9=""),"",IF(SUMIFS($C$6:$V$6,$C$5:$V$5,AA$9,$C22:$V22,"<>")=0,"",SUMIFS($C22:$V22,$C$5:$V$5,AA$9)/SUMIFS($C$6:$V$6,$C$5:$V$5,AA$9,$C22:$V22,"<>"))) | AB22: =IF($A22="","",IF((IF(W22="",0,N(Setup!$B$10))+IF(X22="",0,N(Setup!$B$11))+IF(Y22="",0,N(Setup!$B$12))+IF(Z22="",0,N(Setup!$B$13))+IF(AA22="",0,N(Setup!$B$14)))=0,"",(N(W22)*N(Setup!$B$10)+N(X22)*N(Setup!$B$11)+N(Y22)*N(Setup!$B$12)+N(Z22)*N(Setup!$B$13)+N(AA22)*N(Setup!$B$14))/(IF(W22="",0,N(Setup!$B$10))+IF(X22="",0,N(Setup!$B$11))+IF(Y22="",0,N(Setup!$B$12))+IF(Z22="",0,N(Setup!$B$13))+IF(AA22="",0,N(Setup!$B$14))))) -> 0.77 | AC22: =IF(OR($A22="",AB22=""),"",IF(AB22>=Setup!$E$10,Setup!$D$10,IF(AB22>=Setup!$E$11,Setup!$D$11,IF(AB22>=Setup!$E$12,Setup!$D$12,IF(AB22>=Setup!$E$13,Setup!$D$13,IF(AB22>=Setup!$E$14,Setup!$D$14,"")))))) -> C | AD22: =IF($A22="","",COUNTIFS($C$4:$V$4,"?*",$C$7:$V$7,"<="&TODAY(),$C22:$V22,"")) -> 2 | AE22: =IF(AB22="","",COUNTIF($AB$10:$AB$49,"<"&AB22)+COUNTIF($AB$10:AB22,AB22)) -> 10
A23: Nora Scott | B23: S1014 | C23: 7.5 | D23: 7 | E23: 13 | F23: 9 | G23: 41 | H23: 15.5 | I23: 7 | J23: 65 | K23: 9 | L23: 17 | M23: 39 | W23: =IF(OR($A23="",W$9=""),"",IF(SUMIFS($C$6:$V$6,$C$5:$V$5,W$9,$C23:$V23,"<>")=0,"",SUMIFS($C23:$V23,$C$5:$V$5,W$9)/SUMIFS($C$6:$V$6,$C$5:$V$5,W$9,$C23:$V23,"<>"))) -> 0.79 | X23: =IF(OR($A23="",X$9=""),"",IF(SUMIFS($C$6:$V$6,$C$5:$V$5,X$9,$C23:$V23,"<>")=0,"",SUMIFS($C23:$V23,$C$5:$V$5,X$9)/SUMIFS($C$6:$V$6,$C$5:$V$5,X$9,$C23:$V23,"<>"))) -> 0.75833333 | Y23: =IF(OR($A23="",Y$9=""),"",IF(SUMIFS($C$6:$V$6,$C$5:$V$5,Y$9,$C23:$V23,"<>")=0,"",SUMIFS($C23:$V23,$C$5:$V$5,Y$9)/SUMIFS($C$6:$V$6,$C$5:$V$5,Y$9,$C23:$V23,"<>"))) -> 0.8 | Z23: =IF(OR($A23="",Z$9=""),"",IF(SUMIFS($C$6:$V$6,$C$5:$V$5,Z$9,$C23:$V23,"<>")=0,"",SUMIFS($C23:$V23,$C$5:$V$5,Z$9)/SUMIFS($C$6:$V$6,$C$5:$V$5,Z$9,$C23:$V23,"<>"))) -> 0.65 | AA23: =IF(OR($A23="",AA$9=""),"",IF(SUMIFS($C$6:$V$6,$C$5:$V$5,AA$9,$C23:$V23,"<>")=0,"",SUMIFS($C23:$V23,$C$5:$V$5,AA$9)/SUMIFS($C$6:$V$6,$C$5:$V$5,AA$9,$C23:$V23,"<>"))) | AB23: =IF($A23="","",IF((IF(W23="",0,N(Setup!$B$10))+IF(X23="",0,N(Setup!$B$11))+IF(Y23="",0,N(Setup!$B$12))+IF(Z23="",0,N(Setup!$B$13))+IF(AA23="",0,N(Setup!$B$14)))=0,"",(N(W23)*N(Setup!$B$10)+N(X23)*N(Setup!$B$11)+N(Y23)*N(Setup!$B$12)+N(Z23)*N(Setup!$B$13)+N(AA23)*N(Setup!$B$14))/(IF(W23="",0,N(Setup!$B$10))+IF(X23="",0,N(Setup!$B$11))+IF(Y23="",0,N(Setup!$B$12))+IF(Z23="",0,N(Setup!$B$13))+IF(AA23="",0,N(Setup!$B$14))))) -> 0.73716667 | AC23: =IF(OR($A23="",AB23=""),"",IF(AB23>=Setup!$E$10,Setup!$D$10,IF(AB23>=Setup!$E$11,Setup!$D$11,IF(AB23>=Setup!$E$12,Setup!$D$12,IF(AB23>=Setup!$E$13,Setup!$D$13,IF(AB23>=Setup!$E$14,Setup!$D$14,"")))))) -> C | AD23: =IF($A23="","",COUNTIFS($C$4:$V$4,"?*",$C$7:$V$7,"<="&TODAY(),$C23:$V23,"")) -> 0 | AE23: =IF(AB23="","",COUNTIF($AB$10:$AB$49,"<"&AB23)+COUNTIF($AB$10:AB23,AB23)) -> 7
A24: Oscar Diaz | B24: S1015 | C24: 7 | D24: 9.5 | E24: 18 | F24: 8 | G24: 38 | H24: 14 | I24: 9.5 | J24: 90 | K24: 8.5 | L24: 15.5 | M24: 36 | W24: =IF(OR($A24="",W$9=""),"",IF(SUMIFS($C$6:$V$6,$C$5:$V$5,W$9,$C24:$V24,"<>")=0,"",SUMIFS($C24:$V24,$C$5:$V$5,W$9)/SUMIFS($C$6:$V$6,$C$5:$V$5,W$9,$C24:$V24,"<>"))) -> 0.85 | X24: =IF(OR($A24="",X$9=""),"",IF(SUMIFS($C$6:$V$6,$C$5:$V$5,X$9,$C24:$V24,"<>")=0,"",SUMIFS($C24:$V24,$C$5:$V$5,X$9)/SUMIFS($C$6:$V$6,$C$5:$V$5,X$9,$C24:$V24,"<>"))) -> 0.79166667 | Y24: =IF(OR($A24="",Y$9=""),"",IF(SUMIFS($C$6:$V$6,$C$5:$V$5,Y$9,$C24:$V24,"<>")=0,"",SUMIFS($C24:$V24,$C$5:$V$5,Y$9)/SUMIFS($C$6:$V$6,$C$5:$V$5,Y$9,$C24:$V24,"<>"))) -> 0.74 | Z24: =IF(OR($A24="",Z$9=""),"",IF(SUMIFS($C$6:$V$6,$C$5:$V$5,Z$9,$C24:$V24,"<>")=0,"",SUMIFS($C24:$V24,$C$5:$V$5,Z$9)/SUMIFS($C$6:$V$6,$C$5:$V$5,Z$9,$C24:$V24,"<>"))) -> 0.9 | AA24: =IF(OR($A24="",AA$9=""),"",IF(SUMIFS($C$6:$V$6,$C$5:$V$5,AA$9,$C24:$V24,"<>")=0,"",SUMIFS($C24:$V24,$C$5:$V$5,AA$9)/SUMIFS($C$6:$V$6,$C$5:$V$5,AA$9,$C24:$V24,"<>"))) | AB24: =IF($A24="","",IF((IF(W24="",0,N(Setup!$B$10))+IF(X24="",0,N(Setup!$B$11))+IF(Y24="",0,N(Setup!$B$12))+IF(Z24="",0,N(Setup!$B$13))+IF(AA24="",0,N(Setup!$B$14)))=0,"",(N(W24)*N(Setup!$B$10)+N(X24)*N(Setup!$B$11)+N(Y24)*N(Setup!$B$12)+N(Z24)*N(Setup!$B$13)+N(AA24)*N(Setup!$B$14))/(IF(W24="",0,N(Setup!$B$10))+IF(X24="",0,N(Setup!$B$11))+IF(Y24="",0,N(Setup!$B$12))+IF(Z24="",0,N(Setup!$B$13))+IF(AA24="",0,N(Setup!$B$14))))) -> 0.82833333 | AC24: =IF(OR($A24="",AB24=""),"",IF(AB24>=Setup!$E$10,Setup!$D$10,IF(AB24>=Setup!$E$11,Setup!$D$11,IF(AB24>=Setup!$E$12,Setup!$D$12,IF(AB24>=Setup!$E$13,Setup!$D$13,IF(AB24>=Setup!$E$14,Setup!$D$14,"")))))) -> B | AD24: =IF($A24="","",COUNTIFS($C$4:$V$4,"?*",$C$7:$V$7,"<="&TODAY(),$C24:$V24,"")) -> 0 | AE24: =IF(AB24="","",COUNTIF($AB$10:$AB$49,"<"&AB24)+COUNTIF($AB$10:AB24,AB24)) -> 13
A25: Priya Shah | B25: S1016 | C25: 7.5 | D25: 10 | E25: 19.5 | F25: 9 | G25: 42.5 | H25: 16 | I25: 10 | J25: 100 | L25: 17.5 | M25: 40 | W25: =IF(OR($A25="",W$9=""),"",IF(SUMIFS($C$6:$V$6,$C$5:$V$5,W$9,$C25:$V25,"<>")=0,"",SUMIFS($C25:$V25,$C$5:$V$5,W$9)/SUMIFS($C$6:$V$6,$C$5:$V$5,W$9,$C25:$V25,"<>"))) -> 0.9125 | X25: =IF(OR($A25="",X$9=""),"",IF(SUMIFS($C$6:$V$6,$C$5:$V$5,X$9,$C25:$V25,"<>")=0,"",SUMIFS($C25:$V25,$C$5:$V$5,X$9)/SUMIFS($C$6:$V$6,$C$5:$V$5,X$9,$C25:$V25,"<>"))) -> 0.88333333 | Y25: =IF(OR($A25="",Y$9=""),"",IF(SUMIFS($C$6:$V$6,$C$5:$V$5,Y$9,$C25:$V25,"<>")=0,"",SUMIFS($C25:$V25,$C$5:$V$5,Y$9)/SUMIFS($C$6:$V$6,$C$5:$V$5,Y$9,$C25:$V25,"<>"))) -> 0.825 | Z25: =IF(OR($A25="",Z$9=""),"",IF(SUMIFS($C$6:$V$6,$C$5:$V$5,Z$9,$C25:$V25,"<>")=0,"",SUMIFS($C25:$V25,$C$5:$V$5,Z$9)/SUMIFS($C$6:$V$6,$C$5:$V$5,Z$9,$C25:$V25,"<>"))) -> 1 | AA25: =IF(OR($A25="",AA$9=""),"",IF(SUMIFS($C$6:$V$6,$C$5:$V$5,AA$9,$C25:$V25,"<>")=0,"",SUMIFS($C25:$V25,$C$5:$V$5,AA$9)/SUMIFS($C$6:$V$6,$C$5:$V$5,AA$9,$C25:$V25,"<>"))) | AB25: =IF($A25="","",IF((IF(W25="",0,N(Setup!$B$10))+IF(X25="",0,N(Setup!$B$11))+IF(Y25="",0,N(Setup!$B$12))+IF(Z25="",0,N(Setup!$B$13))+IF(AA25="",0,N(Setup!$B$14)))=0,"",(N(W25)*N(Setup!$B$10)+N(X25)*N(Setup!$B$11)+N(Y25)*N(Setup!$B$12)+N(Z25)*N(Setup!$B$13)+N(AA25)*N(Setup!$B$14))/(IF(W25="",0,N(Setup!$B$10))+IF(X25="",0,N(Setup!$B$11))+IF(Y25="",0,N(Setup!$B$12))+IF(Z25="",0,N(Setup!$B$13))+IF(AA25="",0,N(Setup!$B$14))))) -> 0.91541667 | AC25: =IF(OR($A25="",AB25=""),"",IF(AB25>=Setup!$E$10,Setup!$D$10,IF(AB25>=Setup!$E$11,Setup!$D$11,IF(AB25>=Setup!$E$12,Setup!$D$12,IF(AB25>=Setup!$E$13,Setup!$D$13,IF(AB25>=Setup!$E$14,Setup!$D$14,"")))))) -> A | AD25: =IF($A25="","",COUNTIFS($C$4:$V$4,"?*",$C$7:$V$7,"<="&TODAY(),$C25:$V25,"")) -> 1 | AE25: =IF(AB25="","",COUNTIF($AB$10:$AB$49,"<"&AB25)+COUNTIF($AB$10:AB25,AB25)) -> 18
A26: Quinn Foster | B26: S1017 | C26: 7 | D26: 6.5 | E26: 12 | F26: 5.5 | G26: 38.5 | H26: 14.5 | I26: 6.5 | J26: 63 | K26: 6 | L26: 10.5 | M26: 36.5 | W26: =IF(OR($A26="",W$9=""),"",IF(SUMIFS($C$6:$V$6,$C$5:$V$5,W$9,$C26:$V26,"<>")=0,"",SUMIFS($C26:$V26,$C$5:$V$5,W$9)/SUMIFS($C$6:$V$6,$C$5:$V$5,W$9,$C26:$V26,"<>"))) -> 0.63 | X26: =IF(OR($A26="",X$9=""),"",IF(SUMIFS($C$6:$V$6,$C$5:$V$5,X$9,$C26:$V26,"<>")=0,"",SUMIFS($C26:$V26,$C$5:$V$5,X$9)/SUMIFS($C$6:$V$6,$C$5:$V$5,X$9,$C26:$V26,"<>"))) -> 0.61666667 | Y26: =IF(OR($A26="",Y$9=""),"",IF(SUMIFS($C$6:$V$6,$C$5:$V$5,Y$9,$C26:$V26,"<>")=0,"",SUMIFS($C26:$V26,$C$5:$V$5,Y$9)/SUMIFS($C$6:$V$6,$C$5:$V$5,Y$9,$C26:$V26,"<>"))) -> 0.75 | Z26: =IF(OR($A26="",Z$9=""),"",IF(SUMIFS($C$6:$V$6,$C$5:$V$5,Z$9,$C26:$V26,"<>")=0,"",SUMIFS($C26:$V26,$C$5:$V$5,Z$9)/SUMIFS($C$6:$V$6,$C$5:$V$5,Z$9,$C26:$V26,"<>"))) -> 0.63 | AA26: =IF(OR($A26="",AA$9=""),"",IF(SUMIFS($C$6:$V$6,$C$5:$V$5,AA$9,$C26:$V26,"<>")=0,"",SUMIFS($C26:$V26,$C$5:$V$5,AA$9)/SUMIFS($C$6:$V$6,$C$5:$V$5,AA$9,$C26:$V26,"<>"))) | AB26: =IF($A26="","",IF((IF(W26="",0,N(Setup!$B$10))+IF(X26="",0,N(Setup!$B$11))+IF(Y26="",0,N(Setup!$B$12))+IF(Z26="",0,N(Setup!$B$13))+IF(AA26="",0,N(Setup!$B$14)))=0,"",(N(W26)*N(Setup!$B$10)+N(X26)*N(Setup!$B$11)+N(Y26)*N(Setup!$B$12)+N(Z26)*N(Setup!$B$13)+N(AA26)*N(Setup!$B$14))/(IF(W26="",0,N(Setup!$B$10))+IF(X26="",0,N(Setup!$B$11))+IF(Y26="",0,N(Setup!$B$12))+IF(Z26="",0,N(Setup!$B$13))+IF(AA26="",0,N(Setup!$B$14))))) -> 0.65733333 | AC26: =IF(OR($A26="",AB26=""),"",IF(AB26>=Setup!$E$10,Setup!$D$10,IF(AB26>=Setup!$E$11,Setup!$D$11,IF(AB26>=Setup!$E$12,Setup!$D$12,IF(AB26>=Setup!$E$13,Setup!$D$13,IF(AB26>=Setup!$E$14,Setup!$D$14,"")))))) -> D | AD26: =IF($A26="","",COUNTIFS($C$4:$V$4,"?*",$C$7:$V$7,"<="&TODAY(),$C26:$V26,"")) -> 0 | AE26: =IF(AB26="","",COUNTIF($AB$10:$AB$49,"<"&AB26)+COUNTIF($AB$10:AB26,AB26)) -> 2
A27: Ruby Evans | B27: S1018 | C27: 8 | D27: 7.5 | E27: 14 | F27: 6.5 | G27: 29.5 | H27: 16 | I27: 7.5 | J27: 71 | K27: 6.5 | L27: 12 | M27: 41.5 | W27: =IF(OR($A27="",W$9=""),"",IF(SUMIFS($C$6:$V$6,$C$5:$V$5,W$9,$C27:$V27,"<>")=0,"",SUMIFS($C27:$V27,$C$5:$V$5,W$9)/SUMIFS($C$6:$V$6,$C$5:$V$5,W$9,$C27:$V27,"<>"))) -> 0.72 | X27: =IF(OR($A27="",X$9=""),"",IF(SUMIFS($C$6:$V$6,$C$5:$V$5,X$9,$C27:$V27,"<>")=0,"",SUMIFS($C27:$V27,$C$5:$V$5,X$9)/SUMIFS($C$6:$V$6,$C$5:$V$5,X$9,$C27:$V27,"<>"))) -> 0.7 | Y27: =IF(OR($A27="",Y$9=""),"",IF(SUMIFS($C$6:$V$6,$C$5:$V$5,Y$9,$C27:$V27,"<>")=0,"",SUMIFS($C27:$V27,$C$5:$V$5,Y$9)/SUMIFS($C$6:$V$6,$C$5:$V$5,Y$9,$C27:$V27,"<>"))) -> 0.71 | Z27: =IF(OR($A27="",Z$9=""),"",IF(SUMIFS($C$6:$V$6,$C$5:$V$5,Z$9,$C27:$V27,"<>")=0,"",SUMIFS($C27:$V27,$C$5:$V$5,Z$9)/SUMIFS($C$6:$V$6,$C$5:$V$5,Z$9,$C27:$V27,"<>"))) -> 0.71 | AA27: =IF(OR($A27="",AA$9=""),"",IF(SUMIFS($C$6:$V$6,$C$5:$V$5,AA$9,$C27:$V27,"<>")=0,"",SUMIFS($C27:$V27,$C$5:$V$5,AA$9)/SUMIFS($C$6:$V$6,$C$5:$V$5,AA$9,$C27:$V27,"<>"))) | AB27: =IF($A27="","",IF((IF(W27="",0,N(Setup!$B$10))+IF(X27="",0,N(Setup!$B$11))+IF(Y27="",0,N(Setup!$B$12))+IF(Z27="",0,N(Setup!$B$13))+IF(AA27="",0,N(Setup!$B$14)))=0,"",(N(W27)*N(Setup!$B$10)+N(X27)*N(Setup!$B$11)+N(Y27)*N(Setup!$B$12)+N(Z27)*N(Setup!$B$13)+N(AA27)*N(Setup!$B$14))/(IF(W27="",0,N(Setup!$B$10))+IF(X27="",0,N(Setup!$B$11))+IF(Y27="",0,N(Setup!$B$12))+IF(Z27="",0,N(Setup!$B$13))+IF(AA27="",0,N(Setup!$B$14))))) -> 0.71 | AC27: =IF(OR($A27="",AB27=""),"",IF(AB27>=Setup!$E$10,Setup!$D$10,IF(AB27>=Setup!$E$11,Setup!$D$11,IF(AB27>=Setup!$E$12,Setup!$D$12,IF(AB27>=Setup!$E$13,Setup!$D$13,IF(AB27>=Setup!$E$14,Setup!$D$14,"")))))) -> C | AD27: =IF($A27="","",COUNTIFS($C$4:$V$4,"?*",$C$7:$V$7,"<="&TODAY(),$C27:$V27,"")) -> 0 | AE27: =IF(AB27="","",COUNTIF($AB$10:$AB$49,"<"&AB27)+COUNTIF($AB$10:AB27,AB27)) -> 6
W28: =IF(OR($A28="",W$9=""),"",IF(SUMIFS($C$6:$V$6,$C$5:$V$5,W$9,$C28:$V28,"<>")=0,"",SUMIFS($C28:$V28,$C$5:$V$5,W$9)/SUMIFS($C$6:$V$6,$C$5:$V$5,W$9,$C28:$V28,"<>"))) | X28: =IF(OR($A28="",X$9=""),"",IF(SUMIFS($C$6:$V$6,$C$5:$V$5,X$9,$C28:$V28,"<>")=0,"",SUMIFS($C28:$V28,$C$5:$V$5,X$9)/SUMIFS($C$6:$V$6,$C$5:$V$5,X$9,$C28:$V28,"<>"))) | Y28: =IF(OR($A28="",Y$9=""),"",IF(SUMIFS($C$6:$V$6,$C$5:$V$5,Y$9,$C28:$V28,"<>")=0,"",SUMIFS($C28:$V28,$C$5:$V$5,Y$9)/SUMIFS($C$6:$V$6,$C$5:$V$5,Y$9,$C28:$V28,"<>"))) | Z28: =IF(OR($A28="",Z$9=""),"",IF(SUMIFS($C$6:$V$6,$C$5:$V$5,Z$9,$C28:$V28,"<>")=0,"",SUMIFS($C28:$V28,$C$5:$V$5,Z$9)/SUMIFS($C$6:$V$6,$C$5:$V$5,Z$9,$C28:$V28,"<>"))) | AA28: =IF(OR($A28="",AA$9=""),"",IF(SUMIFS($C$6:$V$6,$C$5:$V$5,AA$9,$C28:$V28,"<>")=0,"",SUMIFS($C28:$V28,$C$5:$V$5,AA$9)/SUMIFS($C$6:$V$6,$C$5:$V$5,AA$9,$C28:$V28,"<>"))) | AB28: =IF($A28="","",IF((IF(W28="",0,N(Setup!$B$10))+IF(X28="",0,N(Setup!$B$11))+IF(Y28="",0,N(Setup!$B$12))+IF(Z28="",0,N(Setup!$B$13))+IF(AA28="",0,N(Setup!$B$14)))=0,"",(N(W28)*N(Setup!$B$10)+N(X28)*N(Setup!$B$11)+N(Y28)*N(Setup!$B$12)+N(Z28)*N(Setup!$B$13)+N(AA28)*N(Setup!$B$14))/(IF(W28="",0,N(Setup!$B$10))+IF(X28="",0,N(Setup!$B$11))+IF(Y28="",0,N(Setup!$B$12))+IF(Z28="",0,N(Setup!$B$13))+IF(AA28="",0,N(Setup!$B$14))))) | AC28: =IF(OR($A28="",AB28=""),"",IF(AB28>=Setup!$E$10,Setup!$D$10,IF(AB28>=Setup!$E$11,Setup!$D$11,IF(AB28>=Setup!$E$12,Setup!$D$12,IF(AB28>=Setup!$E$13,Setup!$D$13,IF(AB28>=Setup!$E$14,Setup!$D$14,"")))))) | AD28: =IF($A28="","",COUNTIFS($C$4:$V$4,"?*",$C$7:$V$7,"<="&TODAY(),$C28:$V28,"")) | AE28: =IF(AB28="","",COUNTIF($AB$10:$AB$49,"<"&AB28)+COUNTIF($AB$10:AB28,AB28))
W29: =IF(OR($A29="",W$9=""),"",IF(SUMIFS($C$6:$V$6,$C$5:$V$5,W$9,$C29:$V29,"<>")=0,"",SUMIFS($C29:$V29,$C$5:$V$5,W$9)/SUMIFS($C$6:$V$6,$C$5:$V$5,W$9,$C29:$V29,"<>"))) | X29: =IF(OR($A29="",X$9=""),"",IF(SUMIFS($C$6:$V$6,$C$5:$V$5,X$9,$C29:$V29,"<>")=0,"",SUMIFS($C29:$V29,$C$5:$V$5,X$9)/SUMIFS($C$6:$V$6,$C$5:$V$5,X$9,$C29:$V29,"<>"))) | Y29: =IF(OR($A29="",Y$9=""),"",IF(SUMIFS($C$6:$V$6,$C$5:$V$5,Y$9,$C29:$V29,"<>")=0,"",SUMIFS($C29:$V29,$C$5:$V$5,Y$9)/SUMIFS($C$6:$V$6,$C$5:$V$5,Y$9,$C29:$V29,"<>"))) | Z29: =IF(OR($A29="",Z$9=""),"",IF(SUMIFS($C$6:$V$6,$C$5:$V$5,Z$9,$C29:$V29,"<>")=0,"",SUMIFS($C29:$V29,$C$5:$V$5,Z$9)/SUMIFS($C$6:$V$6,$C$5:$V$5,Z$9,$C29:$V29,"<>"))) | AA29: =IF(OR($A29="",AA$9=""),"",IF(SUMIFS($C$6:$V$6,$C$5:$V$5,AA$9,$C29:$V29,"<>")=0,"",SUMIFS($C29:$V29,$C$5:$V$5,AA$9)/SUMIFS($C$6:$V$6,$C$5:$V$5,AA$9,$C29:$V29,"<>"))) | AB29: =IF($A29="","",IF((IF(W29="",0,N(Setup!$B$10))+IF(X29="",0,N(Setup!$B$11))+IF(Y29="",0,N(Setup!$B$12))+IF(Z29="",0,N(Setup!$B$13))+IF(AA29="",0,N(Setup!$B$14)))=0,"",(N(W29)*N(Setup!$B$10)+N(X29)*N(Setup!$B$11)+N(Y29)*N(Setup!$B$12)+N(Z29)*N(Setup!$B$13)+N(AA29)*N(Setup!$B$14))/(IF(W29="",0,N(Setup!$B$10))+IF(X29="",0,N(Setup!$B$11))+IF(Y29="",0,N(Setup!$B$12))+IF(Z29="",0,N(Setup!$B$13))+IF(AA29="",0,N(Setup!$B$14))))) | AC29: =IF(OR($A29="",AB29=""),"",IF(AB29>=Setup!$E$10,Setup!$D$10,IF(AB29>=Setup!$E$11,Setup!$D$11,IF(AB29>=Setup!$E$12,Setup!$D$12,IF(AB29>=Setup!$E$13,Setup!$D$13,IF(AB29>=Setup!$E$14,Setup!$D$14,"")))))) | AD29: =IF($A29="","",COUNTIFS($C$4:$V$4,"?*",$C$7:$V$7,"<="&TODAY(),$C29:$V29,"")) | AE29: =IF(AB29="","",COUNTIF($AB$10:$AB$49,"<"&AB29)+COUNTIF($AB$10:AB29,AB29))
W30: =IF(OR($A30="",W$9=""),"",IF(SUMIFS($C$6:$V$6,$C$5:$V$5,W$9,$C30:$V30,"<>")=0,"",SUMIFS($C30:$V30,$C$5:$V$5,W$9)/SUMIFS($C$6:$V$6,$C$5:$V$5,W$9,$C30:$V30,"<>"))) | X30: =IF(OR($A30="",X$9=""),"",IF(SUMIFS($C$6:$V$6,$C$5:$V$5,X$9,$C30:$V30,"<>")=0,"",SUMIFS($C30:$V30,$C$5:$V$5,X$9)/SUMIFS($C$6:$V$6,$C$5:$V$5,X$9,$C30:$V30,"<>"))) | Y30: =IF(OR($A30="",Y$9=""),"",IF(SUMIFS($C$6:$V$6,$C$5:$V$5,Y$9,$C30:$V30,"<>")=0,"",SUMIFS($C30:$V30,$C$5:$V$5,Y$9)/SUMIFS($C$6:$V$6,$C$5:$V$5,Y$9,$C30:$V30,"<>"))) | Z30: =IF(OR($A30="",Z$9=""),"",IF(SUMIFS($C$6:$V$6,$C$5:$V$5,Z$9,$C30:$V30,"<>")=0,"",SUMIFS($C30:$V30,$C$5:$V$5,Z$9)/SUMIFS($C$6:$V$6,$C$5:$V$5,Z$9,$C30:$V30,"<>"))) | AA30: =IF(OR($A30="",AA$9=""),"",IF(SUMIFS($C$6:$V$6,$C$5:$V$5,AA$9,$C30:$V30,"<>")=0,"",SUMIFS($C30:$V30,$C$5:$V$5,AA$9)/SUMIFS($C$6:$V$6,$C$5:$V$5,AA$9,$C30:$V30,"<>"))) | AB30: =IF($A30="","",IF((IF(W30="",0,N(Setup!$B$10))+IF(X30="",0,N(Setup!$B$11))+IF(Y30="",0,N(Setup!$B$12))+IF(Z30="",0,N(Setup!$B$13))+IF(AA30="",0,N(Setup!$B$14)))=0,"",(N(W30)*N(Setup!$B$10)+N(X30)*N(Setup!$B$11)+N(Y30)*N(Setup!$B$12)+N(Z30)*N(Setup!$B$13)+N(AA30)*N(Setup!$B$14))/(IF(W30="",0,N(Setup!$B$10))+IF(X30="",0,N(Setup!$B$11))+IF(Y30="",0,N(Setup!$B$12))+IF(Z30="",0,N(Setup!$B$13))+IF(AA30="",0,N(Setup!$B$14))))) | AC30: =IF(OR($A30="",AB30=""),"",IF(AB30>=Setup!$E$10,Setup!$D$10,IF(AB30>=Setup!$E$11,Setup!$D$11,IF(AB30>=Setup!$E$12,Setup!$D$12,IF(AB30>=Setup!$E$13,Setup!$D$13,IF(AB30>=Setup!$E$14,Setup!$D$14,"")))))) | AD30: =IF($A30="","",COUNTIFS($C$4:$V$4,"?*",$C$7:$V$7,"<="&TODAY(),$C30:$V30,"")) | AE30: =IF(AB30="","",COUNTIF($AB$10:$AB$49,"<"&AB30)+COUNTIF($AB$10:AB30,AB30))
W31: =IF(OR($A31="",W$9=""),"",IF(SUMIFS($C$6:$V$6,$C$5:$V$5,W$9,$C31:$V31,"<>")=0,"",SUMIFS($C31:$V31,$C$5:$V$5,W$9)/SUMIFS($C$6:$V$6,$C$5:$V$5,W$9,$C31:$V31,"<>"))) | X31: =IF(OR($A31="",X$9=""),"",IF(SUMIFS($C$6:$V$6,$C$5:$V$5,X$9,$C31:$V31,"<>")=0,"",SUMIFS($C31:$V31,$C$5:$V$5,X$9)/SUMIFS($C$6:$V$6,$C$5:$V$5,X$9,$C31:$V31,"<>"))) | Y31: =IF(OR($A31="",Y$9=""),"",IF(SUMIFS($C$6:$V$6,$C$5:$V$5,Y$9,$C31:$V31,"<>")=0,"",SUMIFS($C31:$V31,$C$5:$V$5,Y$9)/SUMIFS($C$6:$V$6,$C$5:$V$5,Y$9,$C31:$V31,"<>"))) | Z31: =IF(OR($A31="",Z$9=""),"",IF(SUMIFS($C$6:$V$6,$C$5:$V$5,Z$9,$C31:$V31,"<>")=0,"",SUMIFS($C31:$V31,$C$5:$V$5,Z$9)/SUMIFS($C$6:$V$6,$C$5:$V$5,Z$9,$C31:$V31,"<>"))) | AA31: =IF(OR($A31="",AA$9=""),"",IF(SUMIFS($C$6:$V$6,$C$5:$V$5,AA$9,$C31:$V31,"<>")=0,"",SUMIFS($C31:$V31,$C$5:$V$5,AA$9)/SUMIFS($C$6:$V$6,$C$5:$V$5,AA$9,$C31:$V31,"<>"))) | AB31: =IF($A31="","",IF((IF(W31="",0,N(Setup!$B$10))+IF(X31="",0,N(Setup!$B$11))+IF(Y31="",0,N(Setup!$B$12))+IF(Z31="",0,N(Setup!$B$13))+IF(AA31="",0,N(Setup!$B$14)))=0,"",(N(W31)*N(Setup!$B$10)+N(X31)*N(Setup!$B$11)+N(Y31)*N(Setup!$B$12)+N(Z31)*N(Setup!$B$13)+N(AA31)*N(Setup!$B$14))/(IF(W31="",0,N(Setup!$B$10))+IF(X31="",0,N(Setup!$B$11))+IF(Y31="",0,N(Setup!$B$12))+IF(Z31="",0,N(Setup!$B$13))+IF(AA31="",0,N(Setup!$B$14))))) | AC31: =IF(OR($A31="",AB31=""),"",IF(AB31>=Setup!$E$10,Setup!$D$10,IF(AB31>=Setup!$E$11,Setup!$D$11,IF(AB31>=Setup!$E$12,Setup!$D$12,IF(AB31>=Setup!$E$13,Setup!$D$13,IF(AB31>=Setup!$E$14,Setup!$D$14,"")))))) | AD31: =IF($A31="","",COUNTIFS($C$4:$V$4,"?*",$C$7:$V$7,"<="&TODAY(),$C31:$V31,"")) | AE31: =IF(AB31="","",COUNTIF($AB$10:$AB$49,"<"&AB31)+COUNTIF($AB$10:AB31,AB31))
W32: =IF(OR($A32="",W$9=""),"",IF(SUMIFS($C$6:$V$6,$C$5:$V$5,W$9,$C32:$V32,"<>")=0,"",SUMIFS($C32:$V32,$C$5:$V$5,W$9)/SUMIFS($C$6:$V$6,$C$5:$V$5,W$9,$C32:$V32,"<>"))) | X32: =IF(OR($A32="",X$9=""),"",IF(SUMIFS($C$6:$V$6,$C$5:$V$5,X$9,$C32:$V32,"<>")=0,"",SUMIFS($C32:$V32,$C$5:$V$5,X$9)/SUMIFS($C$6:$V$6,$C$5:$V$5,X$9,$C32:$V32,"<>"))) | Y32: =IF(OR($A32="",Y$9=""),"",IF(SUMIFS($C$6:$V$6,$C$5:$V$5,Y$9,$C32:$V32,"<>")=0,"",SUMIFS($C32:$V32,$C$5:$V$5,Y$9)/SUMIFS($C$6:$V$6,$C$5:$V$5,Y$9,$C32:$V32,"<>"))) | Z32: =IF(OR($A32="",Z$9=""),"",IF(SUMIFS($C$6:$V$6,$C$5:$V$5,Z$9,$C32:$V32,"<>")=0,"",SUMIFS($C32:$V32,$C$5:$V$5,Z$9)/SUMIFS($C$6:$V$6,$C$5:$V$5,Z$9,$C32:$V32,"<>"))) | AA32: =IF(OR($A32="",AA$9=""),"",IF(SUMIFS($C$6:$V$6,$C$5:$V$5,AA$9,$C32:$V32,"<>")=0,"",SUMIFS($C32:$V32,$C$5:$V$5,AA$9)/SUMIFS($C$6:$V$6,$C$5:$V$5,AA$9,$C32:$V32,"<>"))) | AB32: =IF($A32="","",IF((IF(W32="",0,N(Setup!$B$10))+IF(X32="",0,N(Setup!$B$11))+IF(Y32="",0,N(Setup!$B$12))+IF(Z32="",0,N(Setup!$B$13))+IF(AA32="",0,N(Setup!$B$14)))=0,"",(N(W32)*N(Setup!$B$10)+N(X32)*N(Setup!$B$11)+N(Y32)*N(Setup!$B$12)+N(Z32)*N(Setup!$B$13)+N(AA32)*N(Setup!$B$14))/(IF(W32="",0,N(Setup!$B$10))+IF(X32="",0,N(Setup!$B$11))+IF(Y32="",0,N(Setup!$B$12))+IF(Z32="",0,N(Setup!$B$13))+IF(AA32="",0,N(Setup!$B$14))))) | AC32: =IF(OR($A32="",AB32=""),"",IF(AB32>=Setup!$E$10,Setup!$D$10,IF(AB32>=Setup!$E$11,Setup!$D$11,IF(AB32>=Setup!$E$12,Setup!$D$12,IF(AB32>=Setup!$E$13,Setup!$D$13,IF(AB32>=Setup!$E$14,Setup!$D$14,"")))))) | AD32: =IF($A32="","",COUNTIFS($C$4:$V$4,"?*",$C$7:$V$7,"<="&TODAY(),$C32:$V32,"")) | AE32: =IF(AB32="","",COUNTIF($AB$10:$AB$49,"<"&AB32)+COUNTIF($AB$10:AB32,AB32))
W33: =IF(OR($A33="",W$9=""),"",IF(SUMIFS($C$6:$V$6,$C$5:$V$5,W$9,$C33:$V33,"<>")=0,"",SUMIFS($C33:$V33,$C$5:$V$5,W$9)/SUMIFS($C$6:$V$6,$C$5:$V$5,W$9,$C33:$V33,"<>"))) | X33: =IF(OR($A33="",X$9=""),"",IF(SUMIFS($C$6:$V$6,$C$5:$V$5,X$9,$C33:$V33,"<>")=0,"",SUMIFS($C33:$V33,$C$5:$V$5,X$9)/SUMIFS($C$6:$V$6,$C$5:$V$5,X$9,$C33:$V33,"<>"))) | Y33: =IF(OR($A33="",Y$9=""),"",IF(SUMIFS($C$6:$V$6,$C$5:$V$5,Y$9,$C33:$V33,"<>")=0,"",SUMIFS($C33:$V33,$C$5:$V$5,Y$9)/SUMIFS($C$6:$V$6,$C$5:$V$5,Y$9,$C33:$V33,"<>"))) | Z33: =IF(OR($A33="",Z$9=""),"",IF(SUMIFS($C$6:$V$6,$C$5:$V$5,Z$9,$C33:$V33,"<>")=0,"",SUMIFS($C33:$V33,$C$5:$V$5,Z$9)/SUMIFS($C$6:$V$6,$C$5:$V$5,Z$9,$C33:$V33,"<>"))) | AA33: =IF(OR($A33="",AA$9=""),"",IF(SUMIFS($C$6:$V$6,$C$5:$V$5,AA$9,$C33:$V33,"<>")=0,"",SUMIFS($C33:$V33,$C$5:$V$5,AA$9)/SUMIFS($C$6:$V$6,$C$5:$V$5,AA$9,$C33:$V33,"<>"))) | AB33: =IF($A33="","",IF((IF(W33="",0,N(Setup!$B$10))+IF(X33="",0,N(Setup!$B$11))+IF(Y33="",0,N(Setup!$B$12))+IF(Z33="",0,N(Setup!$B$13))+IF(AA33="",0,N(Setup!$B$14)))=0,"",(N(W33)*N(Setup!$B$10)+N(X33)*N(Setup!$B$11)+N(Y33)*N(Setup!$B$12)+N(Z33)*N(Setup!$B$13)+N(AA33)*N(Setup!$B$14))/(IF(W33="",0,N(Setup!$B$10))+IF(X33="",0,N(Setup!$B$11))+IF(Y33="",0,N(Setup!$B$12))+IF(Z33="",0,N(Setup!$B$13))+IF(AA33="",0,N(Setup!$B$14))))) | AC33: =IF(OR($A33="",AB33=""),"",IF(AB33>=Setup!$E$10,Setup!$D$10,IF(AB33>=Setup!$E$11,Setup!$D$11,IF(AB33>=Setup!$E$12,Setup!$D$12,IF(AB33>=Setup!$E$13,Setup!$D$13,IF(AB33>=Setup!$E$14,Setup!$D$14,"")))))) | AD33: =IF($A33="","",COUNTIFS($C$4:$V$4,"?*",$C$7:$V$7,"<="&TODAY(),$C33:$V33,"")) | AE33: =IF(AB33="","",COUNTIF($AB$10:$AB$49,"<"&AB33)+COUNTIF($AB$10:AB33,AB33))
W34: =IF(OR($A34="",W$9=""),"",IF(SUMIFS($C$6:$V$6,$C$5:$V$5,W$9,$C34:$V34,"<>")=0,"",SUMIFS($C34:$V34,$C$5:$V$5,W$9)/SUMIFS($C$6:$V$6,$C$5:$V$5,W$9,$C34:$V34,"<>"))) | X34: =IF(OR($A34="",X$9=""),"",IF(SUMIFS($C$6:$V$6,$C$5:$V$5,X$9,$C34:$V34,"<>")=0,"",SUMIFS($C34:$V34,$C$5:$V$5,X$9)/SUMIFS($C$6:$V$6,$C$5:$V$5,X$9,$C34:$V34,"<>"))) | Y34: =IF(OR($A34="",Y$9=""),"",IF(SUMIFS($C$6:$V$6,$C$5:$V$5,Y$9,$C34:$V34,"<>")=0,"",SUMIFS($C34:$V34,$C$5:$V$5,Y$9)/SUMIFS($C$6:$V$6,$C$5:$V$5,Y$9,$C34:$V34,"<>"))) | Z34: =IF(OR($A34="",Z$9=""),"",IF(SUMIFS($C$6:$V$6,$C$5:$V$5,Z$9,$C34:$V34,"<>")=0,"",SUMIFS($C34:$V34,$C$5:$V$5,Z$9)/SUMIFS($C$6:$V$6,$C$5:$V$5,Z$9,$C34:$V34,"<>"))) | AA34: =IF(OR($A34="",AA$9=""),"",IF(SUMIFS($C$6:$V$6,$C$5:$V$5,AA$9,$C34:$V34,"<>")=0,"",SUMIFS($C34:$V34,$C$5:$V$5,AA$9)/SUMIFS($C$6:$V$6,$C$5:$V$5,AA$9,$C34:$V34,"<>"))) | AB34: =IF($A34="","",IF((IF(W34="",0,N(Setup!$B$10))+IF(X34="",0,N(Setup!$B$11))+IF(Y34="",0,N(Setup!$B$12))+IF(Z34="",0,N(Setup!$B$13))+IF(AA34="",0,N(Setup!$B$14)))=0,"",(N(W34)*N(Setup!$B$10)+N(X34)*N(Setup!$B$11)+N(Y34)*N(Setup!$B$12)+N(Z34)*N(Setup!$B$13)+N(AA34)*N(Setup!$B$14))/(IF(W34="",0,N(Setup!$B$10))+IF(X34="",0,N(Setup!$B$11))+IF(Y34="",0,N(Setup!$B$12))+IF(Z34="",0,N(Setup!$B$13))+IF(AA34="",0,N(Setup!$B$14))))) | AC34: =IF(OR($A34="",AB34=""),"",IF(AB34>=Setup!$E$10,Setup!$D$10,IF(AB34>=Setup!$E$11,Setup!$D$11,IF(AB34>=Setup!$E$12,Setup!$D$12,IF(AB34>=Setup!$E$13,Setup!$D$13,IF(AB34>=Setup!$E$14,Setup!$D$14,"")))))) | AD34: =IF($A34="","",COUNTIFS($C$4:$V$4,"?*",$C$7:$V$7,"<="&TODAY(),$C34:$V34,"")) | AE34: =IF(AB34="","",COUNTIF($AB$10:$AB$49,"<"&AB34)+COUNTIF($AB$10:AB34,AB34))
W35: =IF(OR($A35="",W$9=""),"",IF(SUMIFS($C$6:$V$6,$C$5:$V$5,W$9,$C35:$V35,"<>")=0,"",SUMIFS($C35:$V35,$C$5:$V$5,W$9)/SUMIFS($C$6:$V$6,$C$5:$V$5,W$9,$C35:$V35,"<>"))) | X35: =IF(OR($A35="",X$9=""),"",IF(SUMIFS($C$6:$V$6,$C$5:$V$5,X$9,$C35:$V35,"<>")=0,"",SUMIFS($C35:$V35,$C$5:$V$5,X$9)/SUMIFS($C$6:$V$6,$C$5:$V$5,X$9,$C35:$V35,"<>"))) | Y35: =IF(OR($A35="",Y$9=""),"",IF(SUMIFS($C$6:$V$6,$C$5:$V$5,Y$9,$C35:$V35,"<>")=0,"",SUMIFS($C35:$V35,$C$5:$V$5,Y$9)/SUMIFS($C$6:$V$6,$C$5:$V$5,Y$9,$C35:$V35,"<>"))) | Z35: =IF(OR($A35="",Z$9=""),"",IF(SUMIFS($C$6:$V$6,$C$5:$V$5,Z$9,$C35:$V35,"<>")=0,"",SUMIFS($C35:$V35,$C$5:$V$5,Z$9)/SUMIFS($C$6:$V$6,$C$5:$V$5,Z$9,$C35:$V35,"<>"))) | AA35: =IF(OR($A35="",AA$9=""),"",IF(SUMIFS($C$6:$V$6,$C$5:$V$5,AA$9,$C35:$V35,"<>")=0,"",SUMIFS($C35:$V35,$C$5:$V$5,AA$9)/SUMIFS($C$6:$V$6,$C$5:$V$5,AA$9,$C35:$V35,"<>"))) | AB35: =IF($A35="","",IF((IF(W35="",0,N(Setup!$B$10))+IF(X35="",0,N(Setup!$B$11))+IF(Y35="",0,N(Setup!$B$12))+IF(Z35="",0,N(Setup!$B$13))+IF(AA35="",0,N(Setup!$B$14)))=0,"",(N(W35)*N(Setup!$B$10)+N(X35)*N(Setup!$B$11)+N(Y35)*N(Setup!$B$12)+N(Z35)*N(Setup!$B$13)+N(AA35)*N(Setup!$B$14))/(IF(W35="",0,N(Setup!$B$10))+IF(X35="",0,N(Setup!$B$11))+IF(Y35="",0,N(Setup!$B$12))+IF(Z35="",0,N(Setup!$B$13))+IF(AA35="",0,N(Setup!$B$14))))) | AC35: =IF(OR($A35="",AB35=""),"",IF(AB35>=Setup!$E$10,Setup!$D$10,IF(AB35>=Setup!$E$11,Setup!$D$11,IF(AB35>=Setup!$E$12,Setup!$D$12,IF(AB35>=Setup!$E$13,Setup!$D$13,IF(AB35>=Setup!$E$14,Setup!$D$14,"")))))) | AD35: =IF($A35="","",COUNTIFS($C$4:$V$4,"?*",$C$7:$V$7,"<="&TODAY(),$C35:$V35,"")) | AE35: =IF(AB35="","",COUNTIF($AB$10:$AB$49,"<"&AB35)+COUNTIF($AB$10:AB35,AB35))
W36: =IF(OR($A36="",W$9=""),"",IF(SUMIFS($C$6:$V$6,$C$5:$V$5,W$9,$C36:$V36,"<>")=0,"",SUMIFS($C36:$V36,$C$5:$V$5,W$9)/SUMIFS($C$6:$V$6,$C$5:$V$5,W$9,$C36:$V36,"<>"))) | X36: =IF(OR($A36="",X$9=""),"",IF(SUMIFS($C$6:$V$6,$C$5:$V$5,X$9,$C36:$V36,"<>")=0,"",SUMIFS($C36:$V36,$C$5:$V$5,X$9)/SUMIFS($C$6:$V$6,$C$5:$V$5,X$9,$C36:$V36,"<>"))) | Y36: =IF(OR($A36="",Y$9=""),"",IF(SUMIFS($C$6:$V$6,$C$5:$V$5,Y$9,$C36:$V36,"<>")=0,"",SUMIFS($C36:$V36,$C$5:$V$5,Y$9)/SUMIFS($C$6:$V$6,$C$5:$V$5,Y$9,$C36:$V36,"<>"))) | Z36: =IF(OR($A36="",Z$9=""),"",IF(SUMIFS($C$6:$V$6,$C$5:$V$5,Z$9,$C36:$V36,"<>")=0,"",SUMIFS($C36:$V36,$C$5:$V$5,Z$9)/SUMIFS($C$6:$V$6,$C$5:$V$5,Z$9,$C36:$V36,"<>"))) | AA36: =IF(OR($A36="",AA$9=""),"",IF(SUMIFS($C$6:$V$6,$C$5:$V$5,AA$9,$C36:$V36,"<>")=0,"",SUMIFS($C36:$V36,$C$5:$V$5,AA$9)/SUMIFS($C$6:$V$6,$C$5:$V$5,AA$9,$C36:$V36,"<>"))) | AB36: =IF($A36="","",IF((IF(W36="",0,N(Setup!$B$10))+IF(X36="",0,N(Setup!$B$11))+IF(Y36="",0,N(Setup!$B$12))+IF(Z36="",0,N(Setup!$B$13))+IF(AA36="",0,N(Setup!$B$14)))=0,"",(N(W36)*N(Setup!$B$10)+N(X36)*N(Setup!$B$11)+N(Y36)*N(Setup!$B$12)+N(Z36)*N(Setup!$B$13)+N(AA36)*N(Setup!$B$14))/(IF(W36="",0,N(Setup!$B$10))+IF(X36="",0,N(Setup!$B$11))+IF(Y36="",0,N(Setup!$B$12))+IF(Z36="",0,N(Setup!$B$13))+IF(AA36="",0,N(Setup!$B$14))))) | AC36: =IF(OR($A36="",AB36=""),"",IF(AB36>=Setup!$E$10,Setup!$D$10,IF(AB36>=Setup!$E$11,Setup!$D$11,IF(AB36>=Setup!$E$12,Setup!$D$12,IF(AB36>=Setup!$E$13,Setup!$D$13,IF(AB36>=Setup!$E$14,Setup!$D$14,"")))))) | AD36: =IF($A36="","",COUNTIFS($C$4:$V$4,"?*",$C$7:$V$7,"<="&TODAY(),$C36:$V36,"")) | AE36: =IF(AB36="","",COUNTIF($AB$10:$AB$49,"<"&AB36)+COUNTIF($AB$10:AB36,AB36))
W37: =IF(OR($A37="",W$9=""),"",IF(SUMIFS($C$6:$V$6,$C$5:$V$5,W$9,$C37:$V37,"<>")=0,"",SUMIFS($C37:$V37,$C$5:$V$5,W$9)/SUMIFS($C$6:$V$6,$C$5:$V$5,W$9,$C37:$V37,"<>"))) | X37: =IF(OR($A37="",X$9=""),"",IF(SUMIFS($C$6:$V$6,$C$5:$V$5,X$9,$C37:$V37,"<>")=0,"",SUMIFS($C37:$V37,$C$5:$V$5,X$9)/SUMIFS($C$6:$V$6,$C$5:$V$5,X$9,$C37:$V37,"<>"))) | Y37: =IF(OR($A37="",Y$9=""),"",IF(SUMIFS($C$6:$V$6,$C$5:$V$5,Y$9,$C37:$V37,"<>")=0,"",SUMIFS($C37:$V37,$C$5:$V$5,Y$9)/SUMIFS($C$6:$V$6,$C$5:$V$5,Y$9,$C37:$V37,"<>"))) | Z37: =IF(OR($A37="",Z$9=""),"",IF(SUMIFS($C$6:$V$6,$C$5:$V$5,Z$9,$C37:$V37,"<>")=0,"",SUMIFS($C37:$V37,$C$5:$V$5,Z$9)/SUMIFS($C$6:$V$6,$C$5:$V$5,Z$9,$C37:$V37,"<>"))) | AA37: =IF(OR($A37="",AA$9=""),"",IF(SUMIFS($C$6:$V$6,$C$5:$V$5,AA$9,$C37:$V37,"<>")=0,"",SUMIFS($C37:$V37,$C$5:$V$5,AA$9)/SUMIFS($C$6:$V$6,$C$5:$V$5,AA$9,$C37:$V37,"<>"))) | AB37: =IF($A37="","",IF((IF(W37="",0,N(Setup!$B$10))+IF(X37="",0,N(Setup!$B$11))+IF(Y37="",0,N(Setup!$B$12))+IF(Z37="",0,N(Setup!$B$13))+IF(AA37="",0,N(Setup!$B$14)))=0,"",(N(W37)*N(Setup!$B$10)+N(X37)*N(Setup!$B$11)+N(Y37)*N(Setup!$B$12)+N(Z37)*N(Setup!$B$13)+N(AA37)*N(Setup!$B$14))/(IF(W37="",0,N(Setup!$B$10))+IF(X37="",0,N(Setup!$B$11))+IF(Y37="",0,N(Setup!$B$12))+IF(Z37="",0,N(Setup!$B$13))+IF(AA37="",0,N(Setup!$B$14))))) | AC37: =IF(OR($A37="",AB37=""),"",IF(AB37>=Setup!$E$10,Setup!$D$10,IF(AB37>=Setup!$E$11,Setup!$D$11,IF(AB37>=Setup!$E$12,Setup!$D$12,IF(AB37>=Setup!$E$13,Setup!$D$13,IF(AB37>=Setup!$E$14,Setup!$D$14,"")))))) | AD37: =IF($A37="","",COUNTIFS($C$4:$V$4,"?*",$C$7:$V$7,"<="&TODAY(),$C37:$V37,"")) | AE37: =IF(AB37="","",COUNTIF($AB$10:$AB$49,"<"&AB37)+COUNTIF($AB$10:AB37,AB37))
W38: =IF(OR($A38="",W$9=""),"",IF(SUMIFS($C$6:$V$6,$C$5:$V$5,W$9,$C38:$V38,"<>")=0,"",SUMIFS($C38:$V38,$C$5:$V$5,W$9)/SUMIFS($C$6:$V$6,$C$5:$V$5,W$9,$C38:$V38,"<>"))) | X38: =IF(OR($A38="",X$9=""),"",IF(SUMIFS($C$6:$V$6,$C$5:$V$5,X$9,$C38:$V38,"<>")=0,"",SUMIFS($C38:$V38,$C$5:$V$5,X$9)/SUMIFS($C$6:$V$6,$C$5:$V$5,X$9,$C38:$V38,"<>"))) | Y38: =IF(OR($A38="",Y$9=""),"",IF(SUMIFS($C$6:$V$6,$C$5:$V$5,Y$9,$C38:$V38,"<>")=0,"",SUMIFS($C38:$V38,$C$5:$V$5,Y$9)/SUMIFS($C$6:$V$6,$C$5:$V$5,Y$9,$C38:$V38,"<>"))) | Z38: =IF(OR($A38="",Z$9=""),"",IF(SUMIFS($C$6:$V$6,$C$5:$V$5,Z$9,$C38:$V38,"<>")=0,"",SUMIFS($C38:$V38,$C$5:$V$5,Z$9)/SUMIFS($C$6:$V$6,$C$5:$V$5,Z$9,$C38:$V38,"<>"))) | AA38: =IF(OR($A38="",AA$9=""),"",IF(SUMIFS($C$6:$V$6,$C$5:$V$5,AA$9,$C38:$V38,"<>")=0,"",SUMIFS($C38:$V38,$C$5:$V$5,AA$9)/SUMIFS($C$6:$V$6,$C$5:$V$5,AA$9,$C38:$V38,"<>"))) | AB38: =IF($A38="","",IF((IF(W38="",0,N(Setup!$B$10))+IF(X38="",0,N(Setup!$B$11))+IF(Y38="",0,N(Setup!$B$12))+IF(Z38="",0,N(Setup!$B$13))+IF(AA38="",0,N(Setup!$B$14)))=0,"",(N(W38)*N(Setup!$B$10)+N(X38)*N(Setup!$B$11)+N(Y38)*N(Setup!$B$12)+N(Z38)*N(Setup!$B$13)+N(AA38)*N(Setup!$B$14))/(IF(W38="",0,N(Setup!$B$10))+IF(X38="",0,N(Setup!$B$11))+IF(Y38="",0,N(Setup!$B$12))+IF(Z38="",0,N(Setup!$B$13))+IF(AA38="",0,N(Setup!$B$14))))) | AC38: =IF(OR($A38="",AB38=""),"",IF(AB38>=Setup!$E$10,Setup!$D$10,IF(AB38>=Setup!$E$11,Setup!$D$11,IF(AB38>=Setup!$E$12,Setup!$D$12,IF(AB38>=Setup!$E$13,Setup!$D$13,IF(AB38>=Setup!$E$14,Setup!$D$14,"")))))) | AD38: =IF($A38="","",COUNTIFS($C$4:$V$4,"?*",$C$7:$V$7,"<="&TODAY(),$C38:$V38,"")) | AE38: =IF(AB38="","",COUNTIF($AB$10:$AB$49,"<"&AB38)+COUNTIF($AB$10:AB38,AB38))
W39: =IF(OR($A39="",W$9=""),"",IF(SUMIFS($C$6:$V$6,$C$5:$V$5,W$9,$C39:$V39,"<>")=0,"",SUMIFS($C39:$V39,$C$5:$V$5,W$9)/SUMIFS($C$6:$V$6,$C$5:$V$5,W$9,$C39:$V39,"<>"))) | X39: =IF(OR($A39="",X$9=""),"",IF(SUMIFS($C$6:$V$6,$C$5:$V$5,X$9,$C39:$V39,"<>")=0,"",SUMIFS($C39:$V39,$C$5:$V$5,X$9)/SUMIFS($C$6:$V$6,$C$5:$V$5,X$9,$C39:$V39,"<>"))) | Y39: =IF(OR($A39="",Y$9=""),"",IF(SUMIFS($C$6:$V$6,$C$5:$V$5,Y$9,$C39:$V39,"<>")=0,"",SUMIFS($C39:$V39,$C$5:$V$5,Y$9)/SUMIFS($C$6:$V$6,$C$5:$V$5,Y$9,$C39:$V39,"<>"))) | Z39: =IF(OR($A39="",Z$9=""),"",IF(SUMIFS($C$6:$V$6,$C$5:$V$5,Z$9,$C39:$V39,"<>")=0,"",SUMIFS($C39:$V39,$C$5:$V$5,Z$9)/SUMIFS($C$6:$V$6,$C$5:$V$5,Z$9,$C39:$V39,"<>"))) | AA39: =IF(OR($A39="",AA$9=""),"",IF(SUMIFS($C$6:$V$6,$C$5:$V$5,AA$9,$C39:$V39,"<>")=0,"",SUMIFS($C39:$V39,$C$5:$V$5,AA$9)/SUMIFS($C$6:$V$6,$C$5:$V$5,AA$9,$C39:$V39,"<>"))) | AB39: =IF($A39="","",IF((IF(W39="",0,N(Setup!$B$10))+IF(X39="",0,N(Setup!$B$11))+IF(Y39="",0,N(Setup!$B$12))+IF(Z39="",0,N(Setup!$B$13))+IF(AA39="",0,N(Setup!$B$14)))=0,"",(N(W39)*N(Setup!$B$10)+N(X39)*N(Setup!$B$11)+N(Y39)*N(Setup!$B$12)+N(Z39)*N(Setup!$B$13)+N(AA39)*N(Setup!$B$14))/(IF(W39="",0,N(Setup!$B$10))+IF(X39="",0,N(Setup!$B$11))+IF(Y39="",0,N(Setup!$B$12))+IF(Z39="",0,N(Setup!$B$13))+IF(AA39="",0,N(Setup!$B$14))))) | AC39: =IF(OR($A39="",AB39=""),"",IF(AB39>=Setup!$E$10,Setup!$D$10,IF(AB39>=Setup!$E$11,Setup!$D$11,IF(AB39>=Setup!$E$12,Setup!$D$12,IF(AB39>=Setup!$E$13,Setup!$D$13,IF(AB39>=Setup!$E$14,Setup!$D$14,"")))))) | AD39: =IF($A39="","",COUNTIFS($C$4:$V$4,"?*",$C$7:$V$7,"<="&TODAY(),$C39:$V39,"")) | AE39: =IF(AB39="","",COUNTIF($AB$10:$AB$49,"<"&AB39)+COUNTIF($AB$10:AB39,AB39))
... W49: =IF(OR($A49="",W$9=""),"",IF(SUMIFS($C$6:$V$6,$C$5:$V$5,W$9,$C49:$V49,"<>")=0,"",SUMIFS($C49:$V49,$C$5:$V$5,W$9)/SUMIFS($C$6:$V$6,$C$5:$V$5,W$9,$C49:$V49,"<>"))) | X49: =IF(OR($A49="",X$9=""),"",IF(SUMIFS($C$6:$V$6,$C$5:$V$5,X$9,$C49:$V49,"<>")=0,"",SUMIFS($C49:$V49,$C$5:$V$5,X$9)/SUMIFS($C$6:$V$6,$C$5:$V$5,X$9,$C49:$V49,"<>"))) | Y49: =IF(OR($A49="",Y$9=""),"",IF(SUMIFS($C$6:$V$6,$C$5:$V$5,Y$9,$C49:$V49,"<>")=0,"",SUMIFS($C49:$V49,$C$5:$V$5,Y$9)/SUMIFS($C$6:$V$6,$C$5:$V$5,Y$9,$C49:$V49,"<>"))) | Z49: =IF(OR($A49="",Z$9=""),"",IF(SUMIFS($C$6:$V$6,$C$5:$V$5,Z$9,$C49:$V49,"<>")=0,"",SUMIFS($C49:$V49,$C$5:$V$5,Z$9)/SUMIFS($C$6:$V$6,$C$5:$V$5,Z$9,$C49:$V49,"<>"))) | AA49: =IF(OR($A49="",AA$9=""),"",IF(SUMIFS($C$6:$V$6,$C$5:$V$5,AA$9,$C49:$V49,"<>")=0,"",SUMIFS($C49:$V49,$C$5:$V$5,AA$9)/SUMIFS($C$6:$V$6,$C$5:$V$5,AA$9,$C49:$V49,"<>"))) | AB49: =IF($A49="","",IF((IF(W49="",0,N(Setup!$B$10))+IF(X49="",0,N(Setup!$B$11))+IF(Y49="",0,N(Setup!$B$12))+IF(Z49="",0,N(Setup!$B$13))+IF(AA49="",0,N(Setup!$B$14)))=0,"",(N(W49)*N(Setup!$B$10)+N(X49)*N(Setup!$B$11)+N(Y49)*N(Setup!$B$12)+N(Z49)*N(Setup!$B$13)+N(AA49)*N(Setup!$B$14))/(IF(W49="",0,N(Setup!$B$10))+IF(X49="",0,N(Setup!$B$11))+IF(Y49="",0,N(Setup!$B$12))+IF(Z49="",0,N(Setup!$B$13))+IF(AA49="",0,N(Setup!$B$14))))) | AC49: =IF(OR($A49="",AB49=""),"",IF(AB49>=Setup!$E$10,Setup!$D$10,IF(AB49>=Setup!$E$11,Setup!$D$11,IF(AB49>=Setup!$E$12,Setup!$D$12,IF(AB49>=Setup!$E$13,Setup!$D$13,IF(AB49>=Setup!$E$14,Setup!$D$14,"")))))) | AD49: =IF($A49="","",COUNTIFS($C$4:$V$4,"?*",$C$7:$V$7,"<="&TODAY(),$C49:$V49,"")) | AE49: =IF(AB49="","",COUNTIF($AB$10:$AB$49,"<"&AB49)+COUNTIF($AB$10:AB49,AB49))

Sheet Summary
A1: Class summary
A2: =ClassName&" / "&Term -> Grade 9 Biology, Period 3 / Fall 2026
A4: STUDENTS | E4: CLASS AVERAGE | I4: BELOW C | M4: MISSING WORK
A5: =COUNTIF(Gradebook!$A$10:$A$49,"?*") -> 18 | E5: =IFERROR(AVERAGE(Gradebook!$AB$10:$AB$49),0) -> 0.77285185 | I5: =COUNTIF(Gradebook!$AC$10:$AC$49,"D")+COUNTIF(Gradebook!$AC$10:$AC$49,"F") -> 5 | M5: =SUM(Gradebook!$AD$10:$AD$49) -> 5
A7: =COUNTIF(Gradebook!$C$4:$V$4,"?*")&" assignments so far" -> 11 assignments so far | E7: =IFERROR("Median "&TEXT(MEDIAN(Gradebook!$AB$10:$AB$49),"0%"),"") -> Median 77% | I7: ="Students who may need support" -> Students who may need support | M7: =COUNTIF(Gradebook!$AD$10:$AD$49,">0")&" students with missing work" -> 4 students with missing work
A23: Overall = weighted average of category percentages, using only categories that have marks so far. Needs attention lists the five lowest overall grades.
A24: Grade distribution | F24: By category | K24: Needs attention
A25: Grade | C25: Students | F25: Category | H25: Average | I25: Weight | K25: Student | N25: Overall | O25: Grade | P25: Missing
A26: =Setup!D10 -> A | C26: =COUNTIF(Gradebook!$AC$10:$AC$49,A26) -> 1 | F26: =IF(Setup!A10="","",Setup!A10) -> Homework | H26: =IF(F26="","",IFERROR(AVERAGE(Gradebook!W10:W49),"")) -> 0.76430556 | I26: =IF(F26="","",Setup!B10) -> 0.2 | K26: =IFERROR(INDEX(Gradebook!$A$10:$A$49,MATCH(1,Gradebook!$AE$10:$AE$49,0)),"") -> Ava Thompson | N26: =IFERROR(INDEX(Gradebook!$AB$10:$AB$49,MATCH(1,Gradebook!$AE$10:$AE$49,0)),"") -> 0.60733333 | O26: =IFERROR(INDEX(Gradebook!$AC$10:$AC$49,MATCH(1,Gradebook!$AE$10:$AE$49,0)),"") -> D | P26: =IFERROR(INDEX(Gradebook!$AD$10:$AD$49,MATCH(1,Gradebook!$AE$10:$AE$49,0)),"") -> 0
A27: =Setup!D11 -> B | C27: =COUNTIF(Gradebook!$AC$10:$AC$49,A27) -> 6 | F27: =IF(Setup!A11="","",Setup!A11) -> Quizzes | H27: =IF(F27="","",IFERROR(AVERAGE(Gradebook!X10:X49),"")) -> 0.7662037 | I27: =IF(F27="","",Setup!B11) -> 0.2 | K27: =IFERROR(INDEX(Gradebook!$A$10:$A$49,MATCH(2,Gradebook!$AE$10:$AE$49,0)),"") -> Quinn Foster | N27: =IFERROR(INDEX(Gradebook!$AB$10:$AB$49,MATCH(2,Gradebook!$AE$10:$AE$49,0)),"") -> 0.65733333 | O27: =IFERROR(INDEX(Gradebook!$AC$10:$AC$49,MATCH(2,Gradebook!$AE$10:$AE$49,0)),"") -> D | P27: =IFERROR(INDEX(Gradebook!$AD$10:$AD$49,MATCH(2,Gradebook!$AE$10:$AE$49,0)),"") -> 0
